BEGIN:VCALENDAR
VERSION:2.0
PRODID:-//Cub Scout Pack 46 - ECPv6.15.20//NONSGML v1.0//EN
CALSCALE:GREGORIAN
METHOD:PUBLISH
X-WR-CALNAME:Cub Scout Pack 46
X-ORIGINAL-URL:https://pack46.com
X-WR-CALDESC:Events for Cub Scout Pack 46
REFRESH-INTERVAL;VALUE=DURATION:PT1H
X-Robots-Tag:noindex
X-PUBLISHED-TTL:PT1H
BEGIN:VTIMEZONE
TZID:America/New_York
BEGIN:DAYLIGHT
TZOFFSETFROM:-0500
TZOFFSETTO:-0400
TZNAME:EDT
DTSTART:20250309T070000
END:DAYLIGHT
BEGIN:STANDARD
TZOFFSETFROM:-0400
TZOFFSETTO:-0500
TZNAME:EST
DTSTART:20251102T060000
END:STANDARD
BEGIN:DAYLIGHT
TZOFFSETFROM:-0500
TZOFFSETTO:-0400
TZNAME:EDT
DTSTART:20260308T070000
END:DAYLIGHT
BEGIN:STANDARD
TZOFFSETFROM:-0400
TZOFFSETTO:-0500
TZNAME:EST
DTSTART:20261101T060000
END:STANDARD
BEGIN:DAYLIGHT
TZOFFSETFROM:-0500
TZOFFSETTO:-0400
TZNAME:EDT
DTSTART:20270314T070000
END:DAYLIGHT
BEGIN:STANDARD
TZOFFSETFROM:-0400
TZOFFSETTO:-0500
TZNAME:EST
DTSTART:20271107T060000
END:STANDARD
END:VTIMEZONE
BEGIN:VEVENT
DTSTART;TZID=America/New_York:20260421T183000
DTEND;TZID=America/New_York:20260421T200000
DTSTAMP:20260421T113823
CREATED:20250721T132209Z
LAST-MODIFIED:20251113T121523Z
UID:8230-1776796200-1776801600@pack46.com
SUMMARY:Pack Meeting
DESCRIPTION:Pack meeting for the month of April.
URL:https://pack46.com/event/pack-meeting-18/
LOCATION:Westchase Elementary School\, 9517 W Linebaugh Ave\, Tampa\, FL\, 33626\, United States
CATEGORIES:Pack Meeting
ATTACH;FMTTYPE=image/png:https://pack46.com/wp-content/uploads/2022/05/favicon.png
END:VEVENT
END:VCALENDAR