BEGIN:VCALENDAR
VERSION:2.0
PRODID:-//Cub Scout Pack 46 - ECPv6.15.20//NONSGML v1.0//EN
CALSCALE:GREGORIAN
METHOD:PUBLISH
X-WR-CALNAME:Cub Scout Pack 46
X-ORIGINAL-URL:https://pack46.com
X-WR-CALDESC:Events for Cub Scout Pack 46
REFRESH-INTERVAL;VALUE=DURATION:PT1H
X-Robots-Tag:noindex
X-PUBLISHED-TTL:PT1H
BEGIN:VTIMEZONE
TZID:America/New_York
BEGIN:DAYLIGHT
TZOFFSETFROM:-0500
TZOFFSETTO:-0400
TZNAME:EDT
DTSTART:20240310T070000
END:DAYLIGHT
BEGIN:STANDARD
TZOFFSETFROM:-0400
TZOFFSETTO:-0500
TZNAME:EST
DTSTART:20241103T060000
END:STANDARD
BEGIN:DAYLIGHT
TZOFFSETFROM:-0500
TZOFFSETTO:-0400
TZNAME:EDT
DTSTART:20250309T070000
END:DAYLIGHT
BEGIN:STANDARD
TZOFFSETFROM:-0400
TZOFFSETTO:-0500
TZNAME:EST
DTSTART:20251102T060000
END:STANDARD
BEGIN:DAYLIGHT
TZOFFSETFROM:-0500
TZOFFSETTO:-0400
TZNAME:EDT
DTSTART:20260308T070000
END:DAYLIGHT
BEGIN:STANDARD
TZOFFSETFROM:-0400
TZOFFSETTO:-0500
TZNAME:EST
DTSTART:20261101T060000
END:STANDARD
END:VTIMEZONE
BEGIN:VEVENT
DTSTART;VALUE=DATE:20251213
DTEND;VALUE=DATE:20251214
DTSTAMP:20260419T125052
CREATED:20250720T222311Z
LAST-MODIFIED:20250720T222311Z
UID:8178-1765584000-1765670399@pack46.com
SUMMARY:Westchase Santa Parade
DESCRIPTION:The Westchase Santa Parade is a beloved annual tradition that offers the perfect opportunity to gather with neighbors while awaiting a visit from Santa and his helpers. It is also an event that brings us together as a community to give back to those in need. \nDan O’Brien and Ralph Caputo launched the parade in 2005 with Santa\, a firetruck\, one simple float and a mission to raise awareness for the Westchase Charitable Foundation\, a non-profit\, volunteer-run organization dedicated to assisting those in the community who have a family member battling a serious illness or who are faced with a tragedy. \nA Westchase tradition was born\, and then it grew.
URL:https://pack46.com/event/westchase-santa-parade-3/
CATEGORIES:Community Event
ATTACH;FMTTYPE=image/jpeg:https://pack46.com/wp-content/uploads/2025/07/Santa.jpg
END:VEVENT
END:VCALENDAR