BEGIN:VCALENDAR
VERSION:2.0
PRODID:-//Cub Scout Pack 46 - ECPv6.15.20//NONSGML v1.0//EN
CALSCALE:GREGORIAN
METHOD:PUBLISH
X-WR-CALNAME:Cub Scout Pack 46
X-ORIGINAL-URL:https://pack46.com
X-WR-CALDESC:Events for Cub Scout Pack 46
REFRESH-INTERVAL;VALUE=DURATION:PT1H
X-Robots-Tag:noindex
X-PUBLISHED-TTL:PT1H
BEGIN:VTIMEZONE
TZID:America/New_York
BEGIN:DAYLIGHT
TZOFFSETFROM:-0500
TZOFFSETTO:-0400
TZNAME:EDT
DTSTART:20230312T070000
END:DAYLIGHT
BEGIN:STANDARD
TZOFFSETFROM:-0400
TZOFFSETTO:-0500
TZNAME:EST
DTSTART:20231105T060000
END:STANDARD
BEGIN:DAYLIGHT
TZOFFSETFROM:-0500
TZOFFSETTO:-0400
TZNAME:EDT
DTSTART:20240310T070000
END:DAYLIGHT
BEGIN:STANDARD
TZOFFSETFROM:-0400
TZOFFSETTO:-0500
TZNAME:EST
DTSTART:20241103T060000
END:STANDARD
BEGIN:DAYLIGHT
TZOFFSETFROM:-0500
TZOFFSETTO:-0400
TZNAME:EDT
DTSTART:20250309T070000
END:DAYLIGHT
BEGIN:STANDARD
TZOFFSETFROM:-0400
TZOFFSETTO:-0500
TZNAME:EST
DTSTART:20251102T060000
END:STANDARD
BEGIN:DAYLIGHT
TZOFFSETFROM:-0500
TZOFFSETTO:-0400
TZNAME:EDT
DTSTART:20260308T070000
END:DAYLIGHT
BEGIN:STANDARD
TZOFFSETFROM:-0400
TZOFFSETTO:-0500
TZNAME:EST
DTSTART:20261101T060000
END:STANDARD
END:VTIMEZONE
BEGIN:VEVENT
DTSTART;TZID=America/New_York:20240903T203000
DTEND;TZID=America/New_York:20240903T213000
DTSTAMP:20260419T080654
CREATED:20240725T221036Z
LAST-MODIFIED:20240811T212954Z
UID:5017-1725395400-1725399000@pack46.com
SUMMARY:Parent Orientation Zoom
DESCRIPTION:All new\, returning\, and prospective parents should join this call\, which will prepare you for the year ahead and cover topics such as event details\, fundraising\, youth protection\, Pack Code of Conduct\, parental involvement\, and more. Register Here
URL:https://pack46.com/event/parent-orientation-zoom-3/
CATEGORIES:Parent Orientation
ATTACH;FMTTYPE=image/jpeg:https://pack46.com/wp-content/uploads/2024/07/Be-Prepared.jpg
END:VEVENT
BEGIN:VEVENT
DTSTART;TZID=America/New_York:20240907T090000
DTEND;TZID=America/New_York:20240907T160000
DTSTAMP:20260419T080654
CREATED:20240625T015932Z
LAST-MODIFIED:20240811T204719Z
UID:5046-1725699600-1725724800@pack46.com
SUMMARY:Cub Scout STEM Academy
DESCRIPTION:Calling all Scout Scientist- Are you ready to learn more about science? \nWe are excited to have you join us at Camp Soule on Sept 7th from 9AM to 3:30PM \nWhat we will be working on: \nLions: \n\nReady Set Grow & Count on Me\n\nTigers: \n\nSky is the Limit & Stories in Shapes\n\nWolfs\, Bears\, Webelos and AOLS: \n\nUp and Away – including Race Time (new cub requirement)\nNOVA Wild – including Into the Woods and Digging in the Past\nDown and Dirty -including Earth Rocks\n\nWe will be incorporating the new cub requirements with the NOVA awards for a more STEM-centric event\, so we will ALSO be working on Ready Set Grow & Count on Me -Lions\, Sky is the Limit & Stories in Shapes- Tigers\, Air of the Wolf (Wolf)\, Where in the Bear & Baloo the Builder -Bear\, Math on the Trail – Webelo and Estimates- AOL. \nPricing \nEarly Bird Rate (ends August 12th)\n$10 for Scouts\n$0 for Adult Leaders \nFull payment due by August 12th to receive the Early Bird Rate \nRegular Rate\n$15 for Scouts\n$0 for Adult Leaders \n$5 Out of Council Fee \nLUNCH OPTION \n$10 per person
URL:https://pack46.com/event/cub-scout-nova-academy/
LOCATION:Camp Soule\, 2201 Soule Road\, Clearwater\, FL\, 33759\, United States
CATEGORIES:Greater Tampa Bay Area Council
ATTACH;FMTTYPE=image/jpeg:https://pack46.com/wp-content/uploads/2024/06/NOVA.jpg
END:VEVENT
BEGIN:VEVENT
DTSTART;TZID=America/New_York:20240907T173000
DTEND;TZID=America/New_York:20240907T213000
DTSTAMP:20260419T080654
CREATED:20240625T020250Z
LAST-MODIFIED:20240811T204140Z
UID:5049-1725730200-1725744600@pack46.com
SUMMARY:Threshers!!! Scout Spectacular
DESCRIPTION:You’re invited to the 2024 Scout Spectacular hosted by the Miccouskee District and the Clearwater Threshers!  Have fun\, and celebrate scouting with a council-wide party at the Baycare Ballpark on September 7th\, 2024. Experience the thrill of baseball\, fireworks\, and scouting FUN!
URL:https://pack46.com/event/threshers-scout-spectacular/
LOCATION:BayCare Ballpark\, 601 Old Coachman Road\, Clearwater\, FL\, 33765\, United States
CATEGORIES:Greater Tampa Bay Area Council
ATTACH;FMTTYPE=image/png:https://pack46.com/wp-content/uploads/2024/06/MD_image_15537045870_7801.png
END:VEVENT
BEGIN:VEVENT
DTSTART;TZID=America/New_York:20240914T080000
DTEND;TZID=America/New_York:20240915T110000
DTSTAMP:20260419T080654
CREATED:20240625T020609Z
LAST-MODIFIED:20240811T204251Z
UID:5053-1726300800-1726398000@pack46.com
SUMMARY:BALOO - Basic Adult Leader Outdoor Orientation
DESCRIPTION:Cub Scout leader training required for any Cub Scout den or pack outdoor event\, including pack camping overnighters and Webelos den overnighters. \nBALOO training consists of two components—an online component and a practical\, hands-on component. You must sleep over night at camp to complete the training. \nBoth components must be completed to qualify as a “TRAINED” Cub Scout outdoor leader. \nThe online training contains introductory and basic information that will be built upon during the practical training. \nThe online component must be completed prior to attending the practical component; bring online component completion certiﬁcate and health form part A & B. \nGo to my.scouting.org training site to take the online training portion.
URL:https://pack46.com/event/baloo-basic-adult-leader-outdoor-orientation/
LOCATION:Sand Hill Scout Reservation\, 11210 Cortez Blvd\, Brooksville\, FL\, 34613\, United States
CATEGORIES:Greater Tampa Bay Area Council
ATTACH;FMTTYPE=image/png:https://pack46.com/wp-content/uploads/2024/06/MD_image_16408064550_4835.png
END:VEVENT
BEGIN:VEVENT
DTSTART;TZID=America/New_York:20240917T183000
DTEND;TZID=America/New_York:20240917T200000
DTSTAMP:20260419T080654
CREATED:20240624T015133Z
LAST-MODIFIED:20240811T210752Z
UID:5019-1726597800-1726603200@pack46.com
SUMMARY:Pack Meeting
DESCRIPTION:
URL:https://pack46.com/event/pack-meeting-8/
LOCATION:Westchase Elementary School\, 9517 W Linebaugh Ave\, Tampa\, FL\, 33626\, United States
CATEGORIES:Pack Meeting
ATTACH;FMTTYPE=image/png:https://pack46.com/wp-content/uploads/2024/06/Pack46-T-Shirt-1.png
END:VEVENT
BEGIN:VEVENT
DTSTART;TZID=America/New_York:20240928T090000
DTEND;TZID=America/New_York:20240928T140000
DTSTAMP:20260419T080654
CREATED:20240625T020808Z
LAST-MODIFIED:20240811T204413Z
UID:5056-1727514000-1727532000@pack46.com
SUMMARY:Fort Brooke’s Fall CubFest
DESCRIPTION:We will feature many activities that you can enjoy in Cub Scouting! Come join us for a fun filled day! \nActivity stations and presentations are for youth\, parents and leaders. The goal is to get our cubs excited about all of the great activities Scouting offers and give parents and leaders ideas of things they can build into their units’ annual calendar. Fun activities\, great presentations and helpful tips and tricks. \nPlanned activities- \nModel Rockets\, Archery\, BB’s\, Wrist Rockets\, Model Camp Site\, Building Station\, Hay Ride\, Hillsborough County Sheriff Mounted Patrol\, Cooking Demo\, Fishing\, Bouldering Wall\, and more..
URL:https://pack46.com/event/fort-brookes-fall-cubfest/
LOCATION:Camp Owen J. Brorein\, 16901 Boy Scout Rd\, Odessa\, FL\, 33556\, United States
CATEGORIES:Greater Tampa Bay Area Council
ATTACH;FMTTYPE=image/png:https://pack46.com/wp-content/uploads/2024/06/Cub-Fest-2024.png
END:VEVENT
BEGIN:VEVENT
DTSTART;TZID=America/New_York:20241019T170000
DTEND;TZID=America/New_York:20241019T193000
DTSTAMP:20260419T080654
CREATED:20240624T015714Z
LAST-MODIFIED:20241015T200803Z
UID:5028-1729357200-1729366200@pack46.com
SUMMARY:Pack Meeting
DESCRIPTION:Join us for a fun filled Halloween Pack Meeting this Saturday\, October 19th\, at the Westchase Elementary Cafeteria. Halloween activities will begin at 5:00 pm and will follow with dinner & program at 6:00 pm. There is no charge for Pack families – This is a trying time for many families so come hungry and enjoy a hot meal!  Beef\, non-beef and vegetarian options will be available.  \nWe will conduct our usual Pack agenda so make sure to BRING RECYCLABLES AND MATERIALS TO PROTECT YOUR PUMPKINS!  We will conclude the night with some pumpkin smashing! \nUNIFORMS OPTIONAL\, COSTUMES ENCOURAGED!  Scouts are welcome to wear their Class-A uniforms\, or they can wear anything else they wish including Pack T-Shirts\, regular clothes\, OR THEIR HALLOWEEN COSTUMES! \nLAST DAY TO SELL PIZZA CARDS IS SATURDAY!  Pizza Card sales on www.pack46.com/pizza will now close on Saturday. Once sales close Saturday night\, we will order the cards from Papa Johns and they will be distributed within a couple weeks following the Pack Meeting. \nHURRICANE RELIEF: Pack 46 is joining the Greater Tampa Bay Area Council in collecting items for hurricane victims. If you are able to\, please bring items such as non-perishable food\, canned food\, diapers\, baby formula\, and toiletries to the pack meeting. Some of these will go to Pack 46 families in need\, and the rest will be taken to the Council for distribution across Tampa Bay. To make a monetary donation for families in need\, visit pack46.com/donate and note HURRICANE RELIEF in the comment box.
URL:https://pack46.com/event/pack-meeting-9/
LOCATION:Westchase Elementary School\, 9517 W Linebaugh Ave\, Tampa\, FL\, 33626\, United States
CATEGORIES:Pack Meeting
ATTACH;FMTTYPE=image/png:https://pack46.com/wp-content/uploads/2024/06/Pack46-T-Shirt-1.png
END:VEVENT
BEGIN:VEVENT
DTSTART;TZID=America/New_York:20241101T170000
DTEND;TZID=America/New_York:20241103T110000
DTSTAMP:20260419T080654
CREATED:20240806T020322Z
LAST-MODIFIED:20241015T200618Z
UID:5123-1730480400-1730631600@pack46.com
SUMMARY:Spook-O-Ree Camping Trip
DESCRIPTION:MOVED TO NOVEMBER 1-3 \nStep into the mysterious world of spooky adventures! Welcome to the most thrilling\, bone-chilling\, and fun-filled camping experience available to young Scouts! Beware\, an enchanting yet spooky twist awaits you all! As the moon rises high\, the 1980s horror theme takes on a kid-friendly\, exciting twist. It’s not about being scared\, but about embracing the thrill of mystery and the excitement of the unknown. \nPack 46 dues covers the cost of registered Scouts and one adult per registered Scout (select the “free scout/adult” option). Additional siblings and adults can register for $48 (youth siblings) and $38 (adults). Registration includes camping\, all program activities\, and food for the entire weekend!  Prices go up by $5 on September 13\, so register now! \nThe Greater Tampa Bay Area Council is hosting this event on two different weekends\, but Pack 46 is only attending the weekend of November 1. \nRemember\, BSA Youth Protection Policy states that adults who camp overnight must be parents/guardians of a Scout or registered BSA leaders. Guests are welcome to register and attend during the day but must meet one of these criteria to camp overnight. \nPlease read the Spookoree 2024 Camping Checklist and Code of Conduct
URL:https://pack46.com/event/spook-o-ree-camping-trip-2024/
ATTACH;FMTTYPE=image/png:https://pack46.com/wp-content/uploads/2024/08/Spook-24.png
END:VEVENT
BEGIN:VEVENT
DTSTART;TZID=America/New_York:20241119T183000
DTEND;TZID=America/New_York:20241119T200000
DTSTAMP:20260419T080654
CREATED:20240624T015935Z
LAST-MODIFIED:20240811T210957Z
UID:5031-1732041000-1732046400@pack46.com
SUMMARY:Pack Meeting
DESCRIPTION:
URL:https://pack46.com/event/pack-meeting-10/
LOCATION:Westchase Elementary School\, 9517 W Linebaugh Ave\, Tampa\, FL\, 33626\, United States
CATEGORIES:Pack Meeting
ATTACH;FMTTYPE=image/png:https://pack46.com/wp-content/uploads/2024/06/Pack46-T-Shirt-1.png
END:VEVENT
BEGIN:VEVENT
DTSTART;TZID=America/New_York:20241122T170000
DTEND;TZID=America/New_York:20241124T120000
DTSTAMP:20260419T080654
CREATED:20240806T023945Z
LAST-MODIFIED:20240811T212734Z
UID:5172-1732294800-1732449600@pack46.com
SUMMARY:Campsgiving (AOLs only)
DESCRIPTION:
URL:https://pack46.com/event/campsgiving-aols-only/
LOCATION:Camp Owen J. Brorein\, 16901 Boy Scout Rd\, Odessa\, FL\, 33556\, United States
CATEGORIES:Camping
ATTACH;FMTTYPE=image/jpeg:https://pack46.com/wp-content/uploads/2024/08/AOL-1.jpg
END:VEVENT
BEGIN:VEVENT
DTSTART;VALUE=DATE:20241124
DTEND;VALUE=DATE:20241125
DTSTAMP:20260419T080654
CREATED:20240806T024115Z
LAST-MODIFIED:20240806T024229Z
UID:5175-1732406400-1732492799@pack46.com
SUMMARY:Westchase Food Drive Service Project
DESCRIPTION:
URL:https://pack46.com/event/westchase-food-drive-service-project-2/
LOCATION:Westchase Elementary School\, 9517 W Linebaugh Ave\, Tampa\, FL\, 33626\, United States
CATEGORIES:Pack Event
ATTACH;FMTTYPE=image/jpeg:https://pack46.com/wp-content/uploads/2022/08/FOOD-DRIVE1.jpeg
END:VEVENT
BEGIN:VEVENT
DTSTART;VALUE=DATE:20241214
DTEND;VALUE=DATE:20241215
DTSTAMP:20260419T080654
CREATED:20240806T024430Z
LAST-MODIFIED:20241203T202557Z
UID:5180-1734134400-1734220799@pack46.com
SUMMARY:Westchase Santa Parade
DESCRIPTION:Indicate your family’s interest in riding on the Pack 46 float or trailer for the Westchase Santa Parade!  Riders will be selected randomly on Friday\, December 6th. \nLimit of one adult per scout. \nThere will be two shifts: \n\nShift 1: Meet at 1:40 pm\, depart at 2:00 pm\, end at the halfway-point in Radcliffe at about 4:30 pm.\nShift 2: Board in Radcliffe at around 4:30 to 5:00 pm\, end at the conclusion of the parade around 8:00 pm.
URL:https://pack46.com/event/westchase-santa-parade-2/
CATEGORIES:Pack Event
ATTACH;FMTTYPE=image/jpeg:https://pack46.com/wp-content/uploads/2022/08/santaImage2.jpeg
END:VEVENT
BEGIN:VEVENT
DTSTART;TZID=America/New_York:20241215T110000
DTEND;TZID=America/New_York:20241215T130000
DTSTAMP:20260419T080654
CREATED:20240806T024548Z
LAST-MODIFIED:20241204T131303Z
UID:5183-1734260400-1734267600@pack46.com
SUMMARY:Pack 46 Winter Wonderland
DESCRIPTION:Join Pack 46 for a North Pole Breakfast and some elf games as we celebrate the end of another great year in Scouting! \n11:00-1:00 in the Westchase Elementary Cafeteria \nWear your Holiday PJs!
URL:https://pack46.com/event/pack-46-winter-wonderland/
LOCATION:Westchase Elementary School\, 9517 W Linebaugh Ave\, Tampa\, FL\, 33626\, United States
CATEGORIES:Pack Event
ATTACH;FMTTYPE=image/png:https://pack46.com/wp-content/uploads/2024/08/Winter-Wonderland.png
END:VEVENT
BEGIN:VEVENT
DTSTART;TZID=America/New_York:20250114T183000
DTEND;TZID=America/New_York:20250114T200000
DTSTAMP:20260419T080654
CREATED:20240624T020151Z
LAST-MODIFIED:20240811T211038Z
UID:5035-1736879400-1736884800@pack46.com
SUMMARY:Pack Meeting
DESCRIPTION:
URL:https://pack46.com/event/pack-meeting-11/
LOCATION:Westchase Elementary School\, 9517 W Linebaugh Ave\, Tampa\, FL\, 33626\, United States
CATEGORIES:Pack Meeting
ATTACH;FMTTYPE=image/png:https://pack46.com/wp-content/uploads/2024/06/Pack46-T-Shirt-1.png
END:VEVENT
BEGIN:VEVENT
DTSTART;VALUE=DATE:20250125
DTEND;VALUE=DATE:20250127
DTSTAMP:20260419T080654
CREATED:20240806T024921Z
LAST-MODIFIED:20250124T172226Z
UID:5186-1737763200-1737935999@pack46.com
SUMMARY:Snooze at the Zoo (Night 1)
DESCRIPTION:Tickets sold out? Try another date or add your name to the waitlist.
URL:https://pack46.com/event/snooze-at-the-zoo-weekend-1/
LOCATION:Central Florida Zoo & Botanical Gardens\, 3715 W Seminole Blvd\, Sanford\, FL\, 32771\, United States
CATEGORIES:Camping,Pack Event
ATTACH;FMTTYPE=image/jpeg:https://pack46.com/wp-content/uploads/2024/08/C-FL-Zoo-Cheetah.jpg
END:VEVENT
BEGIN:VEVENT
DTSTART;VALUE=DATE:20250131
DTEND;VALUE=DATE:20250202
DTSTAMP:20260419T080654
CREATED:20240806T025009Z
LAST-MODIFIED:20250115T152726Z
UID:5190-1738281600-1738454399@pack46.com
SUMMARY:Snooze at the Zoo (Night 2)
DESCRIPTION:Tickets sold out? Try another date or add your name to the waitlist.
URL:https://pack46.com/event/snooze-at-the-zoo-night-2/
LOCATION:Central Florida Zoo & Botanical Gardens\, 3715 W Seminole Blvd\, Sanford\, FL\, 32771\, United States
CATEGORIES:Camping,Pack Event
ATTACH;FMTTYPE=image/jpeg:https://pack46.com/wp-content/uploads/2024/08/C-FL-Zoo-Cheetah.jpg
END:VEVENT
BEGIN:VEVENT
DTSTART;TZID=America/New_York:20250131T170000
DTEND;TZID=America/New_York:20250202T110000
DTSTAMP:20260419T080654
CREATED:20250105T165236Z
LAST-MODIFIED:20250127T173431Z
UID:6749-1738342800-1738494000@pack46.com
SUMMARY:Bear and Wolf Weeki Wachee Springs Campout
DESCRIPTION:
URL:https://pack46.com/event/bear-and-wolf-weeki-wachee-campout/
LOCATION:Weeki Wachee
END:VEVENT
BEGIN:VEVENT
DTSTART;VALUE=DATE:20250201
DTEND;VALUE=DATE:20250203
DTSTAMP:20260419T080654
CREATED:20241115T020601Z
LAST-MODIFIED:20250113T174229Z
UID:6324-1738368000-1738540799@pack46.com
SUMMARY:Snooze at the Zoo (Night 3)
DESCRIPTION:Tickets sold out? Try another date or add your name to the waitlist.
URL:https://pack46.com/event/snooze-at-the-zoo-night-3/
LOCATION:Central Florida Zoo & Botanical Gardens\, 3715 W Seminole Blvd\, Sanford\, FL\, 32771\, United States
CATEGORIES:Camping,Pack Event
ATTACH;FMTTYPE=image/jpeg:https://pack46.com/wp-content/uploads/2024/08/C-FL-Zoo-Cheetah.jpg
END:VEVENT
BEGIN:VEVENT
DTSTART;VALUE=DATE:20250221
DTEND;VALUE=DATE:20250224
DTSTAMP:20260419T080654
CREATED:20240806T025140Z
LAST-MODIFIED:20250114T020757Z
UID:5193-1740096000-1740355199@pack46.com
SUMMARY:Pack Camping Trip (& AOL Crossover)
DESCRIPTION:Included in Spring Dues! Join Pack 46 for an exciting campout at Camp Soule in Clearwater!  This action-packed weekend of activities will culminate with Saturday night’s Blue & Gold Celebration Dinner and Arrow of Light Crossover Ceremony!
URL:https://pack46.com/event/pack-camping-trip-aol-crossover-2/
LOCATION:Camp Soule\, 2201 Soule Road\, Clearwater\, FL\, 33759\, United States
CATEGORIES:Camping,Pack Event
ATTACH;FMTTYPE=image/jpeg:https://pack46.com/wp-content/uploads/2023/07/23-AOL-Crossover-Scout1.jpg
END:VEVENT
BEGIN:VEVENT
DTSTART;VALUE=DATE:20250308
DTEND;VALUE=DATE:20250309
DTSTAMP:20260419T080654
CREATED:20240806T025225Z
LAST-MODIFIED:20250228T155646Z
UID:5196-1741392000-1741478399@pack46.com
SUMMARY:Pinewood Derby Workshop
DESCRIPTION:Pack 46 will host a Pinewood Derby Workshop on Saturday\, March 8th\, from 9:00-1:00 at the home of Ross & Elizabeth Stoddard: 9020 Lake Sunset Dr.\, Tampa\, FL 33626 \nThis is an optional workshop where Scouts and Outlaws can design\, cut\, and assemble their cars using the Pack’s and other volunteers’ tools.  There is no dedicated time to be there – so show up anytime between 9a-1p and take as much time as you need for your car.  We will have car kits available for scouts who have not yet received theirs (included in Spring dues)\, and kits for purchase for Outlaws ($20 for a kit and race entry) \nMore details on the Pinewood Derby can be found here: Pack 46 Pinewood Derby
URL:https://pack46.com/event/pinewood-derby-workshop-2/
CATEGORIES:Pack Event
ATTACH;FMTTYPE=image/png:https://pack46.com/wp-content/uploads/2022/08/Screen-Shot-2022-08-06-at-3.58.43-PM.png
END:VEVENT
BEGIN:VEVENT
DTSTART;TZID=America/New_York:20250325T183000
DTEND;TZID=America/New_York:20250325T200000
DTSTAMP:20260419T080654
CREATED:20240624T021125Z
LAST-MODIFIED:20250228T155603Z
UID:5039-1742927400-1742932800@pack46.com
SUMMARY:Pack Meeting & Pinewood Derby Prep
DESCRIPTION:
URL:https://pack46.com/event/pack-meeting-pinewood-derby-prep/
LOCATION:Westchase Elementary School\, 9517 W Linebaugh Ave\, Tampa\, FL\, 33626\, United States
CATEGORIES:Pack Event,Pack Meeting
ATTACH;FMTTYPE=image/png:https://pack46.com/wp-content/uploads/2024/06/Pack46-T-Shirt-2.png
END:VEVENT
BEGIN:VEVENT
DTSTART;VALUE=DATE:20250330
DTEND;VALUE=DATE:20250331
DTSTAMP:20260419T080654
CREATED:20240806T025319Z
LAST-MODIFIED:20250228T155809Z
UID:5199-1743292800-1743379199@pack46.com
SUMMARY:Pinewood Derby Race Day (NEW DATE)
DESCRIPTION:More details on the Pinewood Derby can be found here: Pack 46 Pinewood Derby
URL:https://pack46.com/event/pinewood-derby-race-day-2/
LOCATION:Westchase Elementary School\, 9517 W Linebaugh Ave\, Tampa\, FL\, 33626\, United States
ATTACH;FMTTYPE=image/jpeg:https://pack46.com/wp-content/uploads/2024/08/P46-Pinewood-012.jpeg
END:VEVENT
BEGIN:VEVENT
DTSTART;TZID=America/New_York:20250404T180000
DTEND;TZID=America/New_York:20250406T120000
DTSTAMP:20260419T080654
CREATED:20250226T134052Z
LAST-MODIFIED:20250226T134052Z
UID:7386-1743789600-1743940800@pack46.com
SUMMARY:Splash-O-Ree Camping Trip (Weekend 1)
DESCRIPTION:Splash-O-Ree is an annual Cub Campout hosting by the Greater Tampa Bay Area Council.  This is an optional campout for Pack 46 families (not included in dues). Families can choose the weekend and location they would like to attend and register directly on the Council website. The Pack will not be providing food so families should either choose the Council-offered meal plan or plan to provide their own food for the weekend. \nRegistration Link: https://scoutingevent.com/089-85812
URL:https://pack46.com/event/splash-o-ree-camping-trip-weekend-1/
LOCATION:Flaming Arrow and Sand Hill
CATEGORIES:Camping,Greater Tampa Bay Area Council
ATTACH;FMTTYPE=image/png:https://pack46.com/wp-content/uploads/2022/08/Greater_Tampa_Bay_Area_Council.png
END:VEVENT
BEGIN:VEVENT
DTSTART;TZID=America/New_York:20250406T110000
DTEND;TZID=America/New_York:20250406T130000
DTSTAMP:20260419T080654
CREATED:20241220T172409Z
LAST-MODIFIED:20241220T172409Z
UID:6722-1743937200-1743944400@pack46.com
SUMMARY:Pack 46 Skate Party
DESCRIPTION:Join other families from Pack 46 for the Spring Skate Party!  We’ve taken over Skateworld Tampa for fun and fellowship. Scouts who sold 15 pizza cards are free\, all other skaters are $15. Admission includes skate rentals\, a slice of pizza\, and a drink.
URL:https://pack46.com/event/pack-46-skate-party/
LOCATION:Skateworld Tampa\, 7510 Paula Drive\, Tampa\, FL\, 33615\, United States
ATTACH;FMTTYPE=image/png:https://pack46.com/wp-content/uploads/2024/12/skate-world-tampa-logo.png
END:VEVENT
BEGIN:VEVENT
DTSTART;VALUE=DATE:20250411
DTEND;VALUE=DATE:20250414
DTSTAMP:20260419T080654
CREATED:20240806T025441Z
LAST-MODIFIED:20250226T133516Z
UID:5202-1744329600-1744588799@pack46.com
SUMMARY:Splash-O-Ree Camping Trip (Weekend 2)
DESCRIPTION:Splash-O-Ree is an annual Cub Campout hosting by the Greater Tampa Bay Area Council.  This is an optional campout for Pack 46 families (not included in dues). Families can choose the weekend and location they would like to attend and register directly on the Council website. The Pack will not be providing food so families should either choose the Council-offered meal plan or plan to provide their own food for the weekend. \nRegistration Link: https://scoutingevent.com/089-85812
URL:https://pack46.com/event/splash-o-ree-camping-trip/
LOCATION:Camp Soule\, 2201 Soule Road\, Clearwater\, FL\, 33759\, United States
CATEGORIES:Camping,Greater Tampa Bay Area Council,Pack Event
ATTACH;FMTTYPE=image/png:https://pack46.com/wp-content/uploads/2024/08/Greater_Tampa_Bay_Area_Council.png
END:VEVENT
BEGIN:VEVENT
DTSTART;TZID=America/New_York:20250415T183000
DTEND;TZID=America/New_York:20250415T200000
DTSTAMP:20260419T080654
CREATED:20240624T021306Z
LAST-MODIFIED:20240811T211204Z
UID:5043-1744741800-1744747200@pack46.com
SUMMARY:Pack Meeting
DESCRIPTION:
URL:https://pack46.com/event/pack-meeting-12/
LOCATION:Westchase Elementary School\, 9517 W Linebaugh Ave\, Tampa\, FL\, 33626\, United States
CATEGORIES:Pack Meeting
ATTACH;FMTTYPE=image/png:https://pack46.com/wp-content/uploads/2024/06/Pack46-T-Shirt-1.png
END:VEVENT
BEGIN:VEVENT
DTSTART;TZID=America/New_York:20250518T170000
DTEND;TZID=America/New_York:20250518T193000
DTSTAMP:20260419T080654
CREATED:20240806T025535Z
LAST-MODIFIED:20250417T192231Z
UID:5205-1747587600-1747596600@pack46.com
SUMMARY:Pack Advancement Ceremony
DESCRIPTION:End of year dinner and celebration to award scouts with their annual rank advancement! \nCelebration Dinner at 5:00pm in the Dining Hall \nAdvancement Ceremony at 6:30pm at the Council Ring
URL:https://pack46.com/event/advancement-ceremony-2/
LOCATION:Camp Soule\, 2201 Soule Road\, Clearwater\, FL\, 33759\, United States
CATEGORIES:Pack Meeting
ATTACH;FMTTYPE=image/jpeg:https://pack46.com/wp-content/uploads/2024/08/23-advancement-1.jpg
END:VEVENT
BEGIN:VEVENT
DTSTART;TZID=America/New_York:20250621T090000
DTEND;TZID=America/New_York:20250621T123000
DTSTAMP:20260419T080654
CREATED:20250411T103653Z
LAST-MODIFIED:20250411T104030Z
UID:7571-1750496400-1750509000@pack46.com
SUMMARY:Outdoor Iron Chef
DESCRIPTION:Discover what cooking at Cub Scout camp can look like! Learn about recipes that your Cubs can help you prepare: Dutch oven pizza\, Dutch oven dump cakes\, foil dinners\, walking tacos\, s’mores\, etc. \nThe model campsites will feature cooking and camping gear that will make your “front country” experience with your Cub Scouts an enjoyable one. Admission cost includes a tasting of our creations. Bring your own beverages. There will be beverages for purchase. \nSign up for a session starting at 9\, 9:30\, 10\, 10:30 or 11am. Please do not arrive during another session unless you have contacted the event organizers. Each session has a 30 scout maximum (not including adults). \nOnline preregistration is preferred and recommended.  Same day online registration is acceptable.  A participation patch is available for all registered Scouts at no additional cost!
URL:https://pack46.com/event/outdoor-iron-chef/
LOCATION:Camp Soule\, 2201 Soule Road\, Clearwater\, FL\, 33759\, United States
ATTACH;FMTTYPE=image/png:https://pack46.com/wp-content/uploads/2025/04/ScoutOven2.png
END:VEVENT
BEGIN:VEVENT
DTSTART;TZID=America/New_York:20250712T083000
DTEND;TZID=America/New_York:20250712T133000
DTSTAMP:20260419T080654
CREATED:20250411T105058Z
LAST-MODIFIED:20250411T105058Z
UID:7578-1752309000-1752327000@pack46.com
SUMMARY:Shooting Sports - Range Day
DESCRIPTION:Join us a Camp Soule’s Fort Casey. BB Guns and archery will be available in separate sessions. Bring your own snacks and lunch. Lunch items and beverages will be available for purchase. \nYou will sign up for specific hour-long shooting sports session times: either 8:30a\, 9:30a\, 10:30a\, 11:30a or 12:30p for archery or BB. You can sign up for one or both disciplines if you prefer. There will also be other half-hour sessions happening throughout the day which you can attend before or after your shooting session. These sessions will be available for sign-up on the morning of the event and may include flag etiquette\, cub essentials\, knife safety and more. \nPlease\, plan accordingly to start your shooting session at the specified time for which you register. The BB shooting sessions are limited to 16 scouts and the archery sessions limited to 12 scouts. \nOnline preregistration is preferred and recommended.  Same day online registration is acceptable\, although some sessions may be filled.  A participation patch will be given to all registered Scouts!
URL:https://pack46.com/event/shooting-sports-range-day/
LOCATION:Camp Soule\, 2201 Soule Road\, Clearwater\, FL\, 33759\, United States
ATTACH;FMTTYPE=image/jpeg:https://pack46.com/wp-content/uploads/2025/04/archery.jpg
END:VEVENT
BEGIN:VEVENT
DTSTART;TZID=America/New_York:20250802T090000
DTEND;TZID=America/New_York:20250802T130000
DTSTAMP:20260419T080654
CREATED:20250411T105724Z
LAST-MODIFIED:20250411T105724Z
UID:7583-1754125200-1754139600@pack46.com
SUMMARY:Water Sports Day
DESCRIPTION:Enjoy dock and shoreline fishing on the banks of the scenic Lake Chautauqua. Take out a kayak or canoe at Camp Soule’s waterfront. Enjoy the Olympic sized swimming pool. Bring your own snacks and lunch. Lunch items and beverages will be available for purchase. \nAdults who plan to canoe with their scout must be swim tested. Scout who plan on swimming must also be swim tested. Swim tests will be available on site first thing. \nOnline preregistration is preferred and recommended.  Same day online registration is acceptable.  A participation patch is available for all registered Scouts at no additional
URL:https://pack46.com/event/water-sports-day/
LOCATION:Camp Soule\, 2201 Soule Road\, Clearwater\, FL\, 33759\, United States
ATTACH;FMTTYPE=image/png:https://pack46.com/wp-content/uploads/2025/04/canoeing.png
END:VEVENT
END:VCALENDAR