BEGIN:VCALENDAR
VERSION:2.0
PRODID:-//Cub Scout Pack 46 - ECPv6.15.20//NONSGML v1.0//EN
CALSCALE:GREGORIAN
METHOD:PUBLISH
X-WR-CALNAME:Cub Scout Pack 46
X-ORIGINAL-URL:https://pack46.com
X-WR-CALDESC:Events for Cub Scout Pack 46
REFRESH-INTERVAL;VALUE=DURATION:PT1H
X-Robots-Tag:noindex
X-PUBLISHED-TTL:PT1H
BEGIN:VTIMEZONE
TZID:America/New_York
BEGIN:DAYLIGHT
TZOFFSETFROM:-0500
TZOFFSETTO:-0400
TZNAME:EDT
DTSTART:20210314T070000
END:DAYLIGHT
BEGIN:STANDARD
TZOFFSETFROM:-0400
TZOFFSETTO:-0500
TZNAME:EST
DTSTART:20211107T060000
END:STANDARD
BEGIN:DAYLIGHT
TZOFFSETFROM:-0500
TZOFFSETTO:-0400
TZNAME:EDT
DTSTART:20220313T070000
END:DAYLIGHT
BEGIN:STANDARD
TZOFFSETFROM:-0400
TZOFFSETTO:-0500
TZNAME:EST
DTSTART:20221106T060000
END:STANDARD
BEGIN:DAYLIGHT
TZOFFSETFROM:-0500
TZOFFSETTO:-0400
TZNAME:EDT
DTSTART:20230312T070000
END:DAYLIGHT
BEGIN:STANDARD
TZOFFSETFROM:-0400
TZOFFSETTO:-0500
TZNAME:EST
DTSTART:20231105T060000
END:STANDARD
END:VTIMEZONE
BEGIN:VEVENT
DTSTART;VALUE=DATE:20221210
DTEND;VALUE=DATE:20221211
DTSTAMP:20260419T134814
CREATED:20220806T193521Z
LAST-MODIFIED:20220806T193741Z
UID:1123-1670630400-1670716799@pack46.com
SUMMARY:Westchase Santa Parade
DESCRIPTION:Design\, build and ride on the Pack 46 float in the Westchase Holiday Parade!
URL:https://pack46.com/event/westchase-santa-parade-20221210/
LOCATION:FL
CATEGORIES:Pack Event
ATTACH;FMTTYPE=image/jpeg:https://pack46.com/wp-content/uploads/2022/08/santaImage2.jpeg
END:VEVENT
BEGIN:VEVENT
DTSTART;VALUE=DATE:20221202
DTEND;VALUE=DATE:20221205
DTSTAMP:20260419T134814
CREATED:20220806T193213Z
LAST-MODIFIED:20221201T023037Z
UID:1121-1669939200-1670198399@pack46.com
SUMMARY:Pack Camping Trip
DESCRIPTION:Fishing\nScavenger Hunt\nRockets\n2022 Camp Soule Packing List
URL:https://pack46.com/event/pack-camping-trip-20221202/
LOCATION:Camp Soule\, 2201 Soule Road\, Clearwater\, FL\, 33759\, United States
CATEGORIES:Pack Event
ATTACH;FMTTYPE=image/jpeg:https://pack46.com/wp-content/uploads/2022/05/hero-08-scaled.jpg
END:VEVENT
BEGIN:VEVENT
DTSTART;VALUE=DATE:20221120
DTEND;VALUE=DATE:20221121
DTSTAMP:20260419T134814
CREATED:20220806T192959Z
LAST-MODIFIED:20220806T192959Z
UID:1118-1668902400-1668988799@pack46.com
SUMMARY:Westchase Food Drive Service Project
DESCRIPTION:Join us for a Westchase based service project that benefits Metropolitan Ministries.
URL:https://pack46.com/event/westchase-food-drive-service-project-20221120/
LOCATION:Westchase Elementary School\, 9517 W Linebaugh Ave\, Tampa\, FL\, 33626\, United States
CATEGORIES:Pack Event
ATTACH;FMTTYPE=image/jpeg:https://pack46.com/wp-content/uploads/2022/08/FOOD-DRIVE1.jpeg
END:VEVENT
BEGIN:VEVENT
DTSTART;TZID=America/New_York:20221115T183000
DTEND;TZID=America/New_York:20221115T183000
DTSTAMP:20260419T134814
CREATED:20220806T192642Z
LAST-MODIFIED:20220806T195417Z
UID:1116-1668537000-1668537000@pack46.com
SUMMARY:Pack Meeting
DESCRIPTION:Join us for our November 2022 Pack Meeting.
URL:https://pack46.com/event/pack-meeting-20221115/
LOCATION:Westchase Elementary School\, 9517 W Linebaugh Ave\, Tampa\, FL\, 33626\, United States
CATEGORIES:Pack Meeting
ATTACH;FMTTYPE=image/png:https://pack46.com/wp-content/uploads/2022/05/favicon.png
END:VEVENT
BEGIN:VEVENT
DTSTART;VALUE=DATE:20221029
DTEND;VALUE=DATE:20221030
DTSTAMP:20260419T134814
CREATED:20220806T192253Z
LAST-MODIFIED:20220806T192320Z
UID:1113-1667001600-1667087999@pack46.com
SUMMARY:Great Westchase Kids Fun Run
DESCRIPTION:Pack 46 will participate in the Kids Fun Run at the Great Westchase and have a presence at the festival.
URL:https://pack46.com/event/great-westchase-20221029/
LOCATION:FL
CATEGORIES:Pack Event
ATTACH;FMTTYPE=image/png:https://pack46.com/wp-content/uploads/2022/08/Screen-Shot-2022-08-06-at-10.28.35-AM.png
END:VEVENT
BEGIN:VEVENT
DTSTART;VALUE=DATE:20221021
DTEND;VALUE=DATE:20221024
DTSTAMP:20260419T134814
CREATED:20220806T191908Z
LAST-MODIFIED:20221021T023034Z
UID:1110-1666310400-1666569599@pack46.com
SUMMARY:Spook-O-Ree Camping Trip
DESCRIPTION:Our first camping trip of the year is Spook-O-Ree\, October 21-23 at Camp Brorein in Odessa. This is a Council-hosted campout (multiple packs attending) with an action-packed weekend of Cub Scout activities\, concluding with a haunted trail Saturday night! \nYour Pack 46 dues includes Spook-O-Ree for registered scouts and an adult (for sibling-scouts\, one adult is included). Additional family members can register at a cost of $40 for non-scout siblings and $33 for additional parents/guardians (siblings five years of age and under are free and participation in activities will be limited). Meals will be provided by the Pack from Friday dinner through Sunday breakfast – Please indicate your anticipated arrival & departure times in the registration form to assist us in meal planning. \nSpook-O-Ree is one of Tampa Bay’s most popular scouting events of the year and limited scout slots are filling fast. Please register no later than September 27 using the following link: \nClick here to start the registration process \nClick here to download the campout checklist \nClick here to download our tent informational guide
URL:https://pack46.com/event/spook-o-ree-camping-trip-20221021/
LOCATION:Camp Owen J. Brorein\, 16901 Boy Scout Rd\, Odessa\, FL\, 33556\, United States
CATEGORIES:Greater Tampa Bay Area Council,Pack Event
ATTACH;FMTTYPE=image/jpeg:https://pack46.com/wp-content/uploads/2022/08/466a07d0-a0da-73fc-a054-9b207e48b73b.jpg
END:VEVENT
BEGIN:VEVENT
DTSTART;TZID=America/New_York:20221018T183000
DTEND;TZID=America/New_York:20221018T183000
DTSTAMP:20260419T134814
CREATED:20220806T191051Z
LAST-MODIFIED:20220806T195431Z
UID:1107-1666117800-1666117800@pack46.com
SUMMARY:Pack Meeting
DESCRIPTION:Join us for our October 2022 Pack Meeting.
URL:https://pack46.com/event/pack-meeting-20221018/
LOCATION:Westchase Elementary School\, 9517 W Linebaugh Ave\, Tampa\, FL\, 33626\, United States
CATEGORIES:Pack Meeting
ATTACH;FMTTYPE=image/png:https://pack46.com/wp-content/uploads/2022/05/favicon.png
END:VEVENT
BEGIN:VEVENT
DTSTART;VALUE=DATE:20220924
DTEND;VALUE=DATE:20220925
DTSTAMP:20260419T134814
CREATED:20220806T190641Z
LAST-MODIFIED:20220921T170422Z
UID:1101-1663977600-1664063999@pack46.com
SUMMARY:Ft. Brooke Cub Fest (optional)
DESCRIPTION:Please join us for this year’s Cub Fest! \nClick here to register \nWe will feature many activities that you can enjoy in Cub Scouting! Come join us for a fun filled day! \nActivity stations and presentations are for youth\, parents and leaders. The goal is to get our cubs excited about all of the great activities Scouting offers and give parents and leaders ideas of things they can build into their units’ annual calendar. Fun activities\, great presentations and helpful tips and tricks. \nPlanned activities- \nModel Rockets\, Archery\, BB’s\, Wrist Rockets\, Animal Presentations\, Model Camp Site\, Building Station\, Hay Ride\, 1 Mile Nature Hike\, Hillsborough County Sheriff Mounted Patrol\, Cooking Demo \nTime: 9am-1pm \nCost is $10.00 for Cub Scouts and non-Scouting youth participants. \nWe encourage parent participation with your child at the event! \n**Many of the activities we are providing count toward rank advancement. \n  \nLunch will be sold at the event from 11am-1pm: \nYou are more than welcome to pack your own lunch\, snacks\, and drinks (non-alcoholic) \nEvent Coordinator – Tom Knotts \nFort Brooke Activities and Civic Service Committee Chair \nBackcountrylove@gmail.com – 813-293-4474
URL:https://pack46.com/event/ft-brooke-cub-fest-20220924/
LOCATION:Camp Owen J. Brorein\, 16901 Boy Scout Rd\, Odessa\, FL\, 33556\, United States
CATEGORIES:Pack Event
ATTACH;FMTTYPE=image/png:https://pack46.com/wp-content/uploads/2022/08/Greater_Tampa_Bay_Area_Council.png
END:VEVENT
BEGIN:VEVENT
DTSTART;TZID=America/New_York:20220920T183000
DTEND;TZID=America/New_York:20220920T183000
DTSTAMP:20260419T134814
CREATED:20220806T185806Z
LAST-MODIFIED:20220806T195445Z
UID:1098-1663698600-1663698600@pack46.com
SUMMARY:Pack Meeting
DESCRIPTION:Join us for our September 2022 Pack Meeting.
URL:https://pack46.com/event/pack-meeting-20220920/
LOCATION:Westchase Elementary School\, 9517 W Linebaugh Ave\, Tampa\, FL\, 33626\, United States
CATEGORIES:Pack Meeting
ATTACH;FMTTYPE=image/png:https://pack46.com/wp-content/uploads/2022/05/favicon.png
END:VEVENT
BEGIN:VEVENT
DTSTART;TZID=America/New_York:20220816T183000
DTEND;TZID=America/New_York:20220816T183000
DTSTAMP:20260419T134814
CREATED:20220806T142515Z
LAST-MODIFIED:20220807T035837Z
UID:1021-1660674600-1660674600@pack46.com
SUMMARY:Pack Meeting (Open House & Recruitment Night)
DESCRIPTION:Join us for our first Pack meeting for the 2022/2023 School year on August 16th @6:30 pm. \n\nPack Meeting / Open House / Recruitment Night\nFor kids in any of the surrounding schools\nMeet and greet with current scouts\, volunteers\, and families\nLearn more about the scouting program\nPlanned activities for kids
URL:https://pack46.com/event/pack-meeting-20220816/
LOCATION:Westchase Elementary School\, 9517 W Linebaugh Ave\, Tampa\, FL\, 33626\, United States
CATEGORIES:Pack Meeting
ATTACH;FMTTYPE=image/png:https://pack46.com/wp-content/uploads/2022/05/favicon.png
END:VEVENT
BEGIN:VEVENT
DTSTART;TZID=America/New_York:20220722T083000
DTEND;TZID=America/New_York:20220724T173000
DTSTAMP:20260419T134814
CREATED:20220516T013930Z
LAST-MODIFIED:20220715T152048Z
UID:942-1658478600-1658683800@pack46.com
SUMMARY:Miccousukee Day Camp
DESCRIPTION:Cub Scout Day Camp is the ultimate camp experience for your son or daughter! At Cub Scout Day Camp your Scout will do a variety of activities from crafts and skits to nature walks\, even the chance to shoot a bow and arrow! While there are many camp options for your son or daughter this summer\, one camp stands out – Cub Scout Day Camp!
URL:https://pack46.com/event/miccousukee/
LOCATION:Camp Soule\, 2201 Soule Road\, Clearwater\, FL\, 33759\, United States
CATEGORIES:Greater Tampa Bay Area Council
ATTACH;FMTTYPE=image/jpeg:https://pack46.com/wp-content/uploads/2022/05/hero-08-scaled.jpg
END:VEVENT
END:VCALENDAR