BEGIN:VCALENDAR
VERSION:2.0
PRODID:-//Cub Scout Pack 46 - ECPv6.15.20//NONSGML v1.0//EN
CALSCALE:GREGORIAN
METHOD:PUBLISH
X-WR-CALNAME:Cub Scout Pack 46
X-ORIGINAL-URL:https://pack46.com
X-WR-CALDESC:Events for Cub Scout Pack 46
REFRESH-INTERVAL;VALUE=DURATION:PT1H
X-Robots-Tag:noindex
X-PUBLISHED-TTL:PT1H
BEGIN:VTIMEZONE
TZID:America/New_York
BEGIN:DAYLIGHT
TZOFFSETFROM:-0500
TZOFFSETTO:-0400
TZNAME:EDT
DTSTART:20250309T070000
END:DAYLIGHT
BEGIN:STANDARD
TZOFFSETFROM:-0400
TZOFFSETTO:-0500
TZNAME:EST
DTSTART:20251102T060000
END:STANDARD
BEGIN:DAYLIGHT
TZOFFSETFROM:-0500
TZOFFSETTO:-0400
TZNAME:EDT
DTSTART:20260308T070000
END:DAYLIGHT
BEGIN:STANDARD
TZOFFSETFROM:-0400
TZOFFSETTO:-0500
TZNAME:EST
DTSTART:20261101T060000
END:STANDARD
BEGIN:DAYLIGHT
TZOFFSETFROM:-0500
TZOFFSETTO:-0400
TZNAME:EDT
DTSTART:20270314T070000
END:DAYLIGHT
BEGIN:STANDARD
TZOFFSETFROM:-0400
TZOFFSETTO:-0500
TZNAME:EST
DTSTART:20271107T060000
END:STANDARD
END:VTIMEZONE
BEGIN:VEVENT
DTSTART;TZID=America/New_York:20260113T183000
DTEND;TZID=America/New_York:20260113T200000
DTSTAMP:20260419T134757
CREATED:20250720T222849Z
LAST-MODIFIED:20250720T222949Z
UID:8186-1768329000-1768334400@pack46.com
SUMMARY:Pack Meeting
DESCRIPTION:Pack Meeting for the month of January.
URL:https://pack46.com/event/pack-meeting-17/
LOCATION:Westchase Elementary School\, 9517 W Linebaugh Ave\, Tampa\, FL\, 33626\, United States
CATEGORIES:Pack Meeting
ATTACH;FMTTYPE=image/png:https://pack46.com/wp-content/uploads/2022/05/favicon.png
END:VEVENT
BEGIN:VEVENT
DTSTART;TZID=America/New_York:20260123T080000
DTEND;TZID=America/New_York:20260124T120000
DTSTAMP:20260419T134757
CREATED:20250720T223523Z
LAST-MODIFIED:20250720T223523Z
UID:8191-1769155200-1769256000@pack46.com
SUMMARY:BALOO Training (Adult Leader Training)
DESCRIPTION:Cub Scout leader training required for any Cub Scout den or pack outdoor event\, including pack camping overnighters and Webelos den overnighters. \nBALOO (Basic Adult Leader Outdoor Orientation) training consists of two components—an online component and a practical\, hands-on component. You must sleep over night at camp to complete the training. \nBoth components must be completed to qualify as a “TRAINED” Cub Scout outdoor leader. \nThe online training contains introductory and basic information that will be built upon during the practical training. \nThe online component must be completed prior to attending the practical component; bring online component completion certiﬁcate and health form part A & B. \nGo to my.scouting.org training site to take the online training portion.
URL:https://pack46.com/event/baloo-training-adult-leader-training-2/
LOCATION:Masconic Park and Youth camp\, 18050 US Hwy 301\, Wimauma\, FL\, 33598\, United States
ATTACH;FMTTYPE=image/png:https://pack46.com/wp-content/uploads/2024/06/MD_image_16408064550_4835.png
END:VEVENT
BEGIN:VEVENT
DTSTART;VALUE=DATE:20260131
DTEND;VALUE=DATE:20260202
DTSTAMP:20260419T134757
CREATED:20250720T224510Z
LAST-MODIFIED:20251202T233548Z
UID:8201-1769817600-1769990399@pack46.com
SUMMARY:SeaWorld Overnight
DESCRIPTION:**This trip is for Wolves (2nd Grade) and older and is not included in Pack dues.** \nJoin us for a unique overnight experience sleeping next to manta rays\, sharks\, and dolphins!  Our sleepover begins at 6:00 p.m. at SeaWorld with a pizza party and educational activities led by SeaWorld staff\, and concludes at 9:00 a.m. after breakfast.  Your ticket to the sleepover includes admission to the park for all of Sunday\, February 1\, 2026 at the conclusion of the sleepover. \nRegistration is open to scouts and one parent per scout until December 2\, then it will open to additional parents and siblings 7-years-old and up. SeaWorld’s restriction is that our group has no more adults than children\, so if you would like to request an adult in addition to the number of children you have attending\, please email cubscouts@pack46.com and we will place you on a list pending there are enough youth registrations. \nAdult and children registrations are $145 per person\, and are non-refundable. The deadline to register is December 15th.
URL:https://pack46.com/event/seaworld-overnight-2/
LOCATION:SeaWorld\, 7007 Sea World Dr\, Orlando\, FL\, 32821\, United States
CATEGORIES:Pack Event
ATTACH;FMTTYPE=image/jpeg:https://pack46.com/wp-content/uploads/2025/07/SeaWorld.jpg
END:VEVENT
BEGIN:VEVENT
DTSTART;TZID=America/New_York:20260131T080000
DTEND;TZID=America/New_York:20260131T170000
DTSTAMP:20260419T134757
CREATED:20250720T225025Z
LAST-MODIFIED:20250720T225025Z
UID:8204-1769846400-1769878800@pack46.com
SUMMARY:University of Scouting
DESCRIPTION:University of Scouting\nTRAINING AND FUN FOR THE WHOLE FAMILY \nCome spend a day learning new ideas from fantastic instructors and enjoy the fellowship of other Scouts and Scouters from across the Greater Tampa Bay Area Council (GTBAC). University of Scouting offers training courses to help enrich your unit and district programs. This training is for Cub Scouts (Wolf and Up)\, Scouts BSA and older Youth\, and adult volunteers at all levels: Cub Scouts\, Scouts BSA\, Venturing\, Sea Scouts and District & Council volunteers. \n  \nDate: Saturday\, January 31\, 2026 starting at 8:00 AM to 5:00 PM \nPricing: FREE \nLocation: Saint Leo University \nWho can attend?\nAll registered Scouts and Scouters. Cub Scouts (Wolf and Up) are welcome too! \nWhat is Required? \n\nAll adults in attendance MUST have completed and be current on Youth Protection Training\nThere is NO SMOKING OR DRINKING allowed on campus\nChildcare will NOT be available\nBSA Health Form Parts A and B required for Cubs
URL:https://pack46.com/event/university-of-scouting/
LOCATION:Saint Leo University\, 33701 FL-52\, Saint Leo\, FL\, 33574\, United States
CATEGORIES:Greater Tampa Bay Area Council
ATTACH;FMTTYPE=image/jpeg:https://pack46.com/wp-content/uploads/2025/07/UnivOfScouting.jpg
END:VEVENT
BEGIN:VEVENT
DTSTART;TZID=America/New_York:20260207T090000
DTEND;TZID=America/New_York:20260207T170000
DTSTAMP:20260419T134757
CREATED:20250720T225323Z
LAST-MODIFIED:20250720T225323Z
UID:8209-1770454800-1770483600@pack46.com
SUMMARY:Cub Shooting Day
DESCRIPTION:Come bring your Cubs to Camp Soule to participate in Target Sport activities! You can register for Archery or BB’s. Individuals or units are welcome to come.  It is free to visit the camp and then you only pay for the activities your Scout wants do. \nThere are 4 activity sessions for the day.  You do not need to fill your Scout’s schedule.   Just sign up for the activities they would like to do. \nPricing: \nThe pricing is a la carte depending upon what you would like to sign up for.  You must preregister for sessions and available program areas vary depending upon season. Check the class schedule for details. \n\nArchery – $8/pp\nBB Shooting – $5/pp\n\nIf your troop or pack wants to make it a weekend and go camping at Camp Soule\, please go to https://campreservation.com/089/Camps/820 and reserve a site. \nSee you there!
URL:https://pack46.com/event/cub-shooting-day/
LOCATION:Camp Soule\, 2201 Soule Road\, Clearwater\, FL\, 33759\, United States
CATEGORIES:Greater Tampa Bay Area Council
ATTACH;FMTTYPE=image/png:https://pack46.com/wp-content/uploads/2024/09/Soule.png
END:VEVENT
BEGIN:VEVENT
DTSTART;TZID=America/New_York:20260210T183000
DTEND;TZID=America/New_York:20260210T200000
DTSTAMP:20260419T134757
CREATED:20260112T195443Z
LAST-MODIFIED:20260112T195502Z
UID:9317-1770748200-1770753600@pack46.com
SUMMARY:Pack Meeting
DESCRIPTION:Pack meeting for the month of February.
URL:https://pack46.com/event/pack-meeting-19/
LOCATION:Westchase Elementary School\, 9517 W Linebaugh Ave\, Tampa\, FL\, 33626\, United States
CATEGORIES:Pack Meeting
ATTACH;FMTTYPE=image/png:https://pack46.com/wp-content/uploads/2022/05/favicon.png
END:VEVENT
BEGIN:VEVENT
DTSTART;TZID=America/New_York:20260224T203000
DTEND;TZID=America/New_York:20260224T213000
DTSTAMP:20260419T134757
CREATED:20260127T233900Z
LAST-MODIFIED:20260127T233900Z
UID:9336-1771965000-1771968600@pack46.com
SUMMARY:Crossover Campout Webinar & Registration
DESCRIPTION:This is a webinar that will cover all things you may want to know about the upcoming Crossover Campout. \nLink to the webinar: Campout Webinar
URL:https://pack46.com/event/crossover-campout-webinar-registration/
LOCATION:FL
CATEGORIES:Virtual Event
ATTACH;FMTTYPE=image/png:https://pack46.com/wp-content/uploads/2025/07/Zoom-scaled.png
END:VEVENT
BEGIN:VEVENT
DTSTART;TZID=America/New_York:20260306T170000
DTEND;TZID=America/New_York:20260308T110000
DTSTAMP:20260419T134757
CREATED:20250721T092334Z
LAST-MODIFIED:20260202T220740Z
UID:8213-1772816400-1772967600@pack46.com
SUMMARY:Pack Camping Trip & AOL Crossover
DESCRIPTION:This event is covered in Pack Dues!  \nJoin Pack 46 for an action-packed Space-themed weekend with activities like Space Blasters (shooting range)\, Bottle Rockets\, Cosmic Crafts\, and Fishing!  We’ll also have a Pinewood Derby Workshop in the afternoon where Scouts and Outlaws can build their car!  Highlighting the weekend will be an incredible Saturday night Blue & Gold dinner in the Dining Hall\, followed by a campfire where our Arrow of Light scouts will crossover into a Scout troop! \nThis campout is included in Spring dues for Pack 46 scouts and one parent per registered scout!  Select the “Free” option for registered scouts and designated parent. Additional siblings are $36 and adults are $20 for the weekend. \nThere is also a $12 option for guests to join only our Blue & Gold dinner\, campfire\, and AOL Crossover Saturday night at 5:30pm! \nCurrent Spring Pack Dues and BSA Registration is required for all scouts to attend this event – Click Here if you haven’t yet paid pack dues/registration. 
URL:https://pack46.com/event/pack-camping-trip-aol-crossover-3/
LOCATION:Camp Soule\, 2201 Soule Road\, Clearwater\, FL\, 33759\, United States
CATEGORIES:Camping,Pack Event
ATTACH;FMTTYPE=image/png:https://pack46.com/wp-content/uploads/2024/09/Soule.png
END:VEVENT
BEGIN:VEVENT
DTSTART;TZID=America/New_York:20260314T080000
DTEND;TZID=America/New_York:20260315T120000
DTSTAMP:20260419T134757
CREATED:20250721T092659Z
LAST-MODIFIED:20250721T092659Z
UID:8217-1773475200-1773576000@pack46.com
SUMMARY:BALOO Training (Adult Leader Training)
DESCRIPTION:Cub Scout leader training required for any Cub Scout den or pack outdoor event\, including pack camping overnighters and Webelos den overnighters. \nBALOO (Basic Adult Leader Outdoor Orientation) training consists of two components—an online component and a practical\, hands-on component. You must sleep over night at camp to complete the training. \nBoth components must be completed to qualify as a “TRAINED” Cub Scout outdoor leader. \nThe online training contains introductory and basic information that will be built upon during the practical training. \nThe online component must be completed prior to attending the practical component; bring online component completion certiﬁcate and health form part A & B. \nGo to my.scouting.org training site to take the online training portion.
URL:https://pack46.com/event/baloo-training-adult-leader-training-3/
LOCATION:Camp Soule\, 2201 Soule Road\, Clearwater\, FL\, 33759\, United States
CATEGORIES:Greater Tampa Bay Area Council
ATTACH;FMTTYPE=image/png:https://pack46.com/wp-content/uploads/2024/06/MD_image_16408064550_4835.png
END:VEVENT
BEGIN:VEVENT
DTSTART;TZID=America/New_York:20260324T183000
DTEND;TZID=America/New_York:20260324T200000
DTSTAMP:20260419T134757
CREATED:20250721T093231Z
LAST-MODIFIED:20250721T093231Z
UID:8221-1774377000-1774382400@pack46.com
SUMMARY:Pack Meeting & Derby Prep
DESCRIPTION:Pack meeting for the month of March. You will also have the opportunity to work on your Pinewood derby car.
URL:https://pack46.com/event/pack-meeting-derby-prep/
LOCATION:Westchase Elementary School\, 9517 W Linebaugh Ave\, Tampa\, FL\, 33626\, United States
CATEGORIES:Pack Meeting
ATTACH;FMTTYPE=image/png:https://pack46.com/wp-content/uploads/2022/05/favicon.png
END:VEVENT
BEGIN:VEVENT
DTSTART;TZID=America/New_York:20260329T130000
DTEND;TZID=America/New_York:20260329T170000
DTSTAMP:20260419T134757
CREATED:20250721T093905Z
LAST-MODIFIED:20260202T193619Z
UID:8226-1774789200-1774803600@pack46.com
SUMMARY:Pinewood Derby Race Day!
DESCRIPTION:One of the most exciting events in scouting! Race your cars with your fellow scouts and put your STEM skills to the test! Here are all the details:\nPack 46\n2026 Pinewood Derby Rules\n\nWidth shall not exceed 2-3/4 inches\, including wheels and axles.\nLength shall not exceed 7 inches.\nHeight shall not exceed 3-1/4 inches.\nWeight shall not exceed 5 ounces.\nVehicle must clear center guide strip of the track (3/8″H x 1-3/4″ W)\nWheelbase shall not exceed 4-3/8 inches. (Distance between front and rear axles)\nAxles\, wheels\, and body shall be from the materials provided in the kit. Alternate wheels sold by BSA are acceptable.\nWheel bearings\, washers\, and bushings are prohibited.\nNo lubricating oil may be used. Axles may be lubricated with powdered graphite.\nThe car shall not ride on any kind of spring.\nThe car must be freewheeling\, with no starting or propulsion devices.\nNo loose materials of any kind are allowed in the car.\nAt least three wheels must be touching the track when racing.\nEvery part of the car must begin behind starting pin.\nThe vehicle’s front end must be at least ¼ inch wide and cannot be shaped like a pointed V to ensure proper launching on the track.\n\nAnd the last and most important rule: \nHAVE FUN! \nAward Categories by Den:\nIn addition to awards for fastest car\, design awards will be given for the following categories: \nSTEM\nFood\nScout Adventures\nCreative (Anything goes) \nOutlaws\nRacers who are not registered as a Pack 46 Cub Scout (parents\, siblings\, etc.) may also compete in one of two categories: Outlaws\, who must adhere to the full rules above; or Unlimited\, which increases the weight limit to 8 ounces while still following all\nother rules. Outlaw/Unlimited entrance fee is $20 \nRace-Day\nRacers or their designee can show up any time between 9a-12p on Sunday to register\, weigh-in\, measure-in\, choose their design category\, and drop off their car. This is the last time racers can touch their cars until trophies have been awarded. No registrations will be accepted after 12:00p. Racers will receive their racing credentials at registration\, then can leave until the races that afternoon. \nRace-Day Schedule – Sunday March 29th at Westchase Elementary: \n9:00-12:00: Open Registration & Car Drop-off\n12:00-1:00: Judging (No Scouts in the room during judging)\n1:00-2:30: Lions\, Tigers\, Wolves Heat\n2:30-3:30: Outlaws Heat\n3:30-5:00: Bears\, Webelos\, AOL Heat \nAwards (1st through 3rd in Speed per Den\, and 1st through 3rd in each creative category per heat) will occur after each heat\, so families may attend just their heat\, or stay for other heats if you want to watch all the action!  Concessions will be open all afternoon. Scouts should be in Class-A Uniform for the races.  \nBuild Your Car\nPack 46 will host a Pinewood Derby Workshop on the Saturday afternoon of the Crossover Campout\, March 7th\, at Camp Soule!  We will have all the tools you need to design\, build\, and test your car! \n  \nFinally\, Scouts grow through challenge. We encourage parents to help your scout build and design their car\, but please do not do it for them.  It is a great opportunity to let your scout be creative and work side by side with them to build something they can be proud of! \n 
URL:https://pack46.com/event/pinewood-derby-race-day-3/
LOCATION:Westchase Elementary School\, 9517 W Linebaugh Ave\, Tampa\, FL\, 33626\, United States
CATEGORIES:Pack Event
ATTACH;FMTTYPE=image/png:https://pack46.com/wp-content/uploads/2025/02/PinewoodDerby.png
END:VEVENT
BEGIN:VEVENT
DTSTART;TZID=America/New_York:20260412T110000
DTEND;TZID=America/New_York:20260412T130000
DTSTAMP:20260419T134757
CREATED:20260110T003628Z
LAST-MODIFIED:20260312T185606Z
UID:9304-1775991600-1775998800@pack46.com
SUMMARY:Pack 46 Skate Party
DESCRIPTION:Save the Date for the Pack 46 Skate Party at Skateworld Tampa on April 12 from 11am-1pm!  Scouts who sold 15 Pizza Cards are free with a coupon code\, all other skaters can attend for $15. Admission includes skate rentals\, a slice of pizza\, and drink.  Registration NOW – See you there! 
URL:https://pack46.com/event/pack-46-skate-party-2/
LOCATION:Skateworld Tampa\, 7510 Paula Drive\, Tampa\, FL\, 33615\, United States
CATEGORIES:Pack Event
ATTACH;FMTTYPE=image/jpeg:https://pack46.com/wp-content/uploads/2026/01/SkateWorld2.jpg
END:VEVENT
BEGIN:VEVENT
DTSTART;TZID=America/New_York:20260417T180000
DTEND;TZID=America/New_York:20260419T120000
DTSTAMP:20260419T134757
CREATED:20250721T132827Z
LAST-MODIFIED:20260314T230813Z
UID:8233-1776448800-1776600000@pack46.com
SUMMARY:Splash O Ree!
DESCRIPTION:Calling all Cub Scouts and their families! Greater Tampa Bay Area Council’s annual Splash-O-Ree will be held at three GTBAC camps this year.  We will also be offering Splash-O-Ree over two weekends!  Jurrassic Island will  be a fun experience for Scouts and their families. Saturday will be filled with Cub-friendly activities where the Scouts get wet! \nCome for the day or camp for the entire weekend with your family and pack!  Your registration makes that possible\, and the optional meal fee (full details below) will cover Saturday meals and Sunday breakfast. \nWe look forward to seeing you at Splash-O-Ree! \nWho Can Attend? \nAll registered Lions\, Tigers\, Wolfs\, Bears\, Webelos\, and Arrow of Light Cub Scouts are encouraged to attend so long as they have at least one parent or guardian who can attend with them. Other family members are welcome to attend\, but their participation in events will be limited. If you are from out of council\, feel free to join us! \nDifferent Camps – Different Experiences \nAll of our camps have plenty of room to spread out our campers.  Please register early to guarantee your spot. Here are the camp locations: \n\nCamp Soule – (Clearwater) – 200 Youth Participants\nSand Hill (Brooksville) – 300 Youth Participants\nFlaming Arrow (Lake Wales) – 300 Youth Participants\n\nEvent Dates \nRegistration closes 2 weeks before the event. \n\nApril 10-12\, 2026 – Weekend with camping at Sand Hill Scout Reservation and Flaming Arrow Scout Reservation. Registration ends March 27th.\nApril 17-19\, 2025 – Weekend with camping at Camp Soule. Registration ends April 3rd.\n\nT-Shirt Ordering \nT-shirts will be available for pre-order only; you must order by March 13th. Shirts will be available at the camp for pick up. \n  \nEvent Pricing \nPricing \n\n$35.00 Scouts Early Bird/$39.00 Regular\n$27.00 Adults Early Bird/$30.00 Regular\nSiblings under 5 Free!\n\nThe optional meal plan costs an additional $25. \nMeal Plan \nTo make the weekend easier for you and your family\, a meal plan option is available at select camps. \n\nAll meal plans must be pre-purchased.\nNo substitutions are available.\nPLEASE Check with your unit before purchasing – this is not the fee for your unit’s meals \n\nJust $25 for the weekend will get you the following meals: Jurassic Island Cuisine – Friday Cracker Barrel\, Saturday Breakfast\, Lunch and Dinner and Sunday Breakfast \nDietary Restrictions \nThe Greater Tampa Bay Area Council recognizes that there are many potential dietary restrictions as well as common diets (e.g.\, low-calorie and low-carbohydrate) and common food allergies (e.g.\, to gluten\, citrus fruit\, dairy\, eggs\, fish\, nuts/ peanuts\, and shellfish). Individuals will need to consider this and avoid such items in their choices in the dining hall.  In addition\, remember that the Food Team cannot feasibly plan for all specific dietary needs of all persons attending the event. Therefore\, all special dietary needs must be indicated at the time of registration.  Depending upon the special food requirements they may be asked to make their own arrangements to meet those needs by bringing their own food — just as they would bring their own medications.  Any dietary requests made within 2 weeks of the event will not be able to be honored. \nVolunteers \nPlease contact your camp director for the password to register as a volunteer. Contact information is listed in the contacts portion of this event registration page. \n\nFlaming Arrow Scout Reservation – Gavyn McCracken\nSand Hill Scout Reservation – Mandi Harmon\nCamp Soule -TBD
URL:https://pack46.com/event/splash-o-ree/
LOCATION:Camp Soule\, 2201 Soule Road\, Clearwater\, FL\, 33759\, United States
CATEGORIES:Greater Tampa Bay Area Council
ATTACH;FMTTYPE=image/jpeg:https://pack46.com/wp-content/uploads/2025/07/SplashORee.jpeg
END:VEVENT
BEGIN:VEVENT
DTSTART;TZID=America/New_York:20260421T183000
DTEND;TZID=America/New_York:20260421T200000
DTSTAMP:20260419T134757
CREATED:20250721T132209Z
LAST-MODIFIED:20251113T121523Z
UID:8230-1776796200-1776801600@pack46.com
SUMMARY:Pack Meeting
DESCRIPTION:Pack meeting for the month of April.
URL:https://pack46.com/event/pack-meeting-18/
LOCATION:Westchase Elementary School\, 9517 W Linebaugh Ave\, Tampa\, FL\, 33626\, United States
CATEGORIES:Pack Meeting
ATTACH;FMTTYPE=image/png:https://pack46.com/wp-content/uploads/2022/05/favicon.png
END:VEVENT
BEGIN:VEVENT
DTSTART;TZID=America/New_York:20260425T083000
DTEND;TZID=America/New_York:20260425T153000
DTSTAMP:20260419T134757
CREATED:20250721T133417Z
LAST-MODIFIED:20250721T135323Z
UID:8237-1777105800-1777131000@pack46.com
SUMMARY:Fort Brooke District Pinewood Derby
DESCRIPTION:Fort Brooke Pinewood Derby\nThe next level competition for all 1st\, 2nd and 3rd place winners from each Den in your Pack! \nAnyone not a winner at the Pack level can compete in the Outlaw race.  (Or you “Grown-ups”\, if you wish!  Please register according to which race you plan to enter). \nSCHEDULE \n\n\n\n\nFirst Race\nSecond Race\n\n\n\n8:30am\nRegistration Opens\n\n\n\n\n9-9:45 am\nLion Race\nLion/Tiger Outlaw\nregister by 8:50am\n\n\n10-10:45 am\nTiger Race\nAdult Outlaw 1\nregister by 9:50am\n\n\n11-11:45 am\nWolf Race\nWolf/Bear Outlaw\nregister by 10:50am\n\n\n12-12:45 pm\nBear Race\nAdult Outlaw 2\nregister by 11:50am\n\n\n1-1:45 pm\nWebelos Race\nWebelos/AOL Outlaw\nregister by 12:50pm\n\n\n2-2:45 pm\nAOL Race\nAdult Outlaw 3\nregister by 1:50pm\n\n\n3-3:45 pm\nScouts BSA Race\nAll In Outlaw\nregister by 2:50pm\n\n\n\nFood/snacks and drinks will be available for sale during the event. \nAny questions please contact Chris and Michelle Perry at  813-245-6990 or email- Christopher.Perry@baycare.org
URL:https://pack46.com/event/fort-brooke-district-pinewood-derby/
LOCATION:Louis H Hill Scout Center\, 13228 N Central Ave\, Tampa\, FL\, 33612\, United States
CATEGORIES:Greater Tampa Bay Area Council
ATTACH;FMTTYPE=image/png:https://pack46.com/wp-content/uploads/2025/07/PinewoodDerby.png
END:VEVENT
BEGIN:VEVENT
DTSTART;TZID=America/New_York:20260501T170000
DTEND;TZID=America/New_York:20260503T120000
DTSTAMP:20260419T134757
CREATED:20250721T133913Z
LAST-MODIFIED:20250721T133913Z
UID:8243-1777654800-1777809600@pack46.com
SUMMARY:Summer Training Weekend (Adult Leader Training)
DESCRIPTION:Training Weekend\nMultiple trainings will be offered. Please see the descriptions of each training being offered listed below. \nIOLS is 3 days 2 nights\, BALOO is 2 days one night\, and ILST is one day no overnight.  \nTrainings Offered: \nBasic Adult Leader Outdoor Orientation (BALOO) – Is a one-and-a-half-day course designed as an introduction to the Cub Scout outdoor program for leaders interested in adding a camping component to their Pack activities. \n\nBSA’s Cub Scout level camping policies will be taught along with the discovery of the necessary tools to help units carry out a successful camping experience.\nBALOO training consists of an online pre-requisite component and an overnight practical hands-on component.\nCompletion of this course is mandatory for a MINIMUM OF ONE adult on a Pack or Webelos den overnighter.\nThe online component must be completed prior to attending the practical component; bring the online component completion certicate to the practical component training.\nGo to my.scouting.org training site to take the online training portion.\n\nIntroduction to Outdoor Leader Skills (IOLS) – is a one-and-a-half-day hands-on course providing adult leaders with the practical outdoor skills they need to lead Scouts in the out-of-doors. \n\nParticipants will learn first-hand about selecting a campsite\, pitching a tent\, hiking\, outdoor cooking\, first aid and leave-no-trace principles.\nUpon completion\, leaders should feel comfortable teaching Scouts the basic skills required to obtain the First-Class rank.\nIn conjunction with Scoutmaster Position Specifics training\, this course is required for all direct contact leaders registered in Scouts BSA Troops in order to be considered “trained”.\n\nIntroduction to Leadership Skills for Troops (ILST) \nThe purpose of the ILST course is to teach Scouts with leadership positions about their new roles and how to reach success most effectively in that role. It is intended to help Scouts in leadership positions within their troop understand their responsibilities and to equip them with organizational and leadership skills to fulfill those responsibilities. \n\nILST is the first course in the series of leadership training offered to Scouts and is a replacement for Troop Leadership Training.\nCompletion of ILST is a prerequisite for Scouts to participate in the more advanced leadership courses National Youth Leadership Training (NYLT).\n\nAll participants of either course must bring a current copy of the BSA Annual Health Medical Form Parts A & B.  
URL:https://pack46.com/event/summer-training-weekend-adult-leader-training/
LOCATION:Camp Soule\, 2201 Soule Road\, Clearwater\, FL\, 33759\, United States
CATEGORIES:Adult Leader Training,Greater Tampa Bay Area Council
ATTACH;FMTTYPE=image/png:https://pack46.com/wp-content/uploads/2025/07/Greater_Tampa_Bay_Area_Council.png
END:VEVENT
BEGIN:VEVENT
DTSTART;TZID=America/New_York:20260517T170000
DTEND;TZID=America/New_York:20260517T190000
DTSTAMP:20260419T134757
CREATED:20250721T134254Z
LAST-MODIFIED:20260227T184452Z
UID:8246-1779037200-1779044400@pack46.com
SUMMARY:Advancement Ceremony
DESCRIPTION:More details to come.
URL:https://pack46.com/event/advancement-ceremony-3/
LOCATION:Camp Soule\, 2201 Soule Road\, Clearwater\, FL\, 33759\, United States
CATEGORIES:Pack Event,Pack Meeting
ATTACH;FMTTYPE=image/png:https://pack46.com/wp-content/uploads/2024/06/Pack46-T-Shirt-1.png
END:VEVENT
END:VCALENDAR