BEGIN:VCALENDAR
VERSION:2.0
PRODID:-//Cub Scout Pack 46 - ECPv6.15.20//NONSGML v1.0//EN
CALSCALE:GREGORIAN
METHOD:PUBLISH
X-ORIGINAL-URL:https://pack46.com
X-WR-CALDESC:Events for Cub Scout Pack 46
REFRESH-INTERVAL;VALUE=DURATION:PT1H
X-Robots-Tag:noindex
X-PUBLISHED-TTL:PT1H
BEGIN:VTIMEZONE
TZID:America/New_York
BEGIN:DAYLIGHT
TZOFFSETFROM:-0500
TZOFFSETTO:-0400
TZNAME:EDT
DTSTART:20210314T070000
END:DAYLIGHT
BEGIN:STANDARD
TZOFFSETFROM:-0400
TZOFFSETTO:-0500
TZNAME:EST
DTSTART:20211107T060000
END:STANDARD
BEGIN:DAYLIGHT
TZOFFSETFROM:-0500
TZOFFSETTO:-0400
TZNAME:EDT
DTSTART:20220313T070000
END:DAYLIGHT
BEGIN:STANDARD
TZOFFSETFROM:-0400
TZOFFSETTO:-0500
TZNAME:EST
DTSTART:20221106T060000
END:STANDARD
BEGIN:DAYLIGHT
TZOFFSETFROM:-0500
TZOFFSETTO:-0400
TZNAME:EDT
DTSTART:20230312T070000
END:DAYLIGHT
BEGIN:STANDARD
TZOFFSETFROM:-0400
TZOFFSETTO:-0500
TZNAME:EST
DTSTART:20231105T060000
END:STANDARD
END:VTIMEZONE
BEGIN:VEVENT
DTSTART;VALUE=DATE:20221202
DTEND;VALUE=DATE:20221205
DTSTAMP:20260422T131203
CREATED:20220806T193213Z
LAST-MODIFIED:20221201T023037Z
UID:1121-1669939200-1670198399@pack46.com
SUMMARY:Pack Camping Trip
DESCRIPTION:Fishing\nScavenger Hunt\nRockets\n2022 Camp Soule Packing List
URL:https://pack46.com/event/pack-camping-trip-20221202/
LOCATION:Camp Soule\, 2201 Soule Road\, Clearwater\, FL\, 33759\, United States
CATEGORIES:Pack Event
ATTACH;FMTTYPE=image/jpeg:https://pack46.com/wp-content/uploads/2022/05/hero-08-scaled.jpg
END:VEVENT
BEGIN:VEVENT
DTSTART;VALUE=DATE:20221210
DTEND;VALUE=DATE:20221211
DTSTAMP:20260422T131203
CREATED:20220806T193521Z
LAST-MODIFIED:20220806T193741Z
UID:1123-1670630400-1670716799@pack46.com
SUMMARY:Westchase Santa Parade
DESCRIPTION:Design\, build and ride on the Pack 46 float in the Westchase Holiday Parade!
URL:https://pack46.com/event/westchase-santa-parade-20221210/
CATEGORIES:Pack Event
ATTACH;FMTTYPE=image/jpeg:https://pack46.com/wp-content/uploads/2022/08/santaImage2.jpeg
END:VEVENT
BEGIN:VEVENT
DTSTART;TZID=America/New_York:20221213T183000
DTEND;TZID=America/New_York:20221213T183000
DTSTAMP:20260422T131203
CREATED:20220806T193910Z
LAST-MODIFIED:20220806T195353Z
UID:1126-1670956200-1670956200@pack46.com
SUMMARY:Pack Meeting
DESCRIPTION:Join us for our December 2022 Pack Meeting.
URL:https://pack46.com/event/pack-meeting-20221213/
LOCATION:Westchase Elementary School\, 9517 W Linebaugh Ave\, Tampa\, FL\, 33626\, United States
CATEGORIES:Pack Meeting
ATTACH;FMTTYPE=image/png:https://pack46.com/wp-content/uploads/2022/05/favicon.png
END:VEVENT
END:VCALENDAR