BEGIN:VCALENDAR
VERSION:2.0
PRODID:-//Cub Scout Pack 46 - ECPv6.15.20//NONSGML v1.0//EN
CALSCALE:GREGORIAN
METHOD:PUBLISH
X-WR-CALNAME:Cub Scout Pack 46
X-ORIGINAL-URL:https://pack46.com
X-WR-CALDESC:Events for Cub Scout Pack 46
REFRESH-INTERVAL;VALUE=DURATION:PT1H
X-Robots-Tag:noindex
X-PUBLISHED-TTL:PT1H
BEGIN:VTIMEZONE
TZID:America/New_York
BEGIN:DAYLIGHT
TZOFFSETFROM:-0500
TZOFFSETTO:-0400
TZNAME:EDT
DTSTART:20220313T070000
END:DAYLIGHT
BEGIN:STANDARD
TZOFFSETFROM:-0400
TZOFFSETTO:-0500
TZNAME:EST
DTSTART:20221106T060000
END:STANDARD
BEGIN:DAYLIGHT
TZOFFSETFROM:-0500
TZOFFSETTO:-0400
TZNAME:EDT
DTSTART:20230312T070000
END:DAYLIGHT
BEGIN:STANDARD
TZOFFSETFROM:-0400
TZOFFSETTO:-0500
TZNAME:EST
DTSTART:20231105T060000
END:STANDARD
BEGIN:DAYLIGHT
TZOFFSETFROM:-0500
TZOFFSETTO:-0400
TZNAME:EDT
DTSTART:20240310T070000
END:DAYLIGHT
BEGIN:STANDARD
TZOFFSETFROM:-0400
TZOFFSETTO:-0500
TZNAME:EST
DTSTART:20241103T060000
END:STANDARD
END:VTIMEZONE
BEGIN:VEVENT
DTSTART;VALUE=DATE:20230421
DTEND;VALUE=DATE:20230424
DTSTAMP:20260422T074428
CREATED:20220806T201952Z
LAST-MODIFIED:20230419T194902Z
UID:1156-1682035200-1682294399@pack46.com
SUMMARY:Pack Camping Trip
DESCRIPTION:You won’t want to miss this aquatics-themed campout with fishing\, water slides\, a dunk tank\, and much more!  The highlight of our camping trip will be our Arrow of Light Ceremony and Crossover at Saturday night’s campfire! Register by April 15 to secure Early Bird pricing of $35/youth\, $30/adult\, then prices will increase $5 per person.  Registration includes all activities and food from Friday’s late-night snack through Sunday breakfast.  Guests of AOLs who are not camping can attend just the AOL/Crossover Dinner and Celebration for $15.  Siblings 2 and under are free.
URL:https://pack46.com/event/splash-o-ree-20230421/
LOCATION:Camp Owen J. Brorein\, 16901 Boy Scout Rd\, Odessa\, FL\, 33556\, United States
CATEGORIES:Pack Event
ATTACH;FMTTYPE=image/png:https://pack46.com/wp-content/uploads/2022/08/Greater_Tampa_Bay_Area_Council.png
END:VEVENT
BEGIN:VEVENT
DTSTART;TZID=America/New_York:20230422T183000
DTEND;TZID=America/New_York:20230422T203000
DTSTAMP:20260422T074428
CREATED:20220806T201700Z
LAST-MODIFIED:20230401T230518Z
UID:1153-1682188200-1682195400@pack46.com
SUMMARY:Arrow of Light Crossover
DESCRIPTION:Join us in celebrating Scouting’s birthday and the Arrow of Light Weblos crossover to Scouts BSA.
URL:https://pack46.com/event/blue-gold-arrow-of-light-crossover-20230418/
LOCATION:Camp Owen J. Brorein\, 16901 Boy Scout Rd\, Odessa\, FL\, 33556\, United States
CATEGORIES:Pack Event,Pack Meeting
ATTACH;FMTTYPE=image/png:https://pack46.com/wp-content/uploads/2022/08/Screen-Shot-2022-08-06-at-4.16.00-PM.png
END:VEVENT
END:VCALENDAR