BEGIN:VCALENDAR
VERSION:2.0
PRODID:-//Cub Scout Pack 46 - ECPv6.15.20//NONSGML v1.0//EN
CALSCALE:GREGORIAN
METHOD:PUBLISH
X-ORIGINAL-URL:https://pack46.com
X-WR-CALDESC:Events for Cub Scout Pack 46
REFRESH-INTERVAL;VALUE=DURATION:PT1H
X-Robots-Tag:noindex
X-PUBLISHED-TTL:PT1H
BEGIN:VTIMEZONE
TZID:America/New_York
BEGIN:DAYLIGHT
TZOFFSETFROM:-0500
TZOFFSETTO:-0400
TZNAME:EDT
DTSTART:20220313T070000
END:DAYLIGHT
BEGIN:STANDARD
TZOFFSETFROM:-0400
TZOFFSETTO:-0500
TZNAME:EST
DTSTART:20221106T060000
END:STANDARD
BEGIN:DAYLIGHT
TZOFFSETFROM:-0500
TZOFFSETTO:-0400
TZNAME:EDT
DTSTART:20230312T070000
END:DAYLIGHT
BEGIN:STANDARD
TZOFFSETFROM:-0400
TZOFFSETTO:-0500
TZNAME:EST
DTSTART:20231105T060000
END:STANDARD
BEGIN:DAYLIGHT
TZOFFSETFROM:-0500
TZOFFSETTO:-0400
TZNAME:EDT
DTSTART:20240310T070000
END:DAYLIGHT
BEGIN:STANDARD
TZOFFSETFROM:-0400
TZOFFSETTO:-0500
TZNAME:EST
DTSTART:20241103T060000
END:STANDARD
END:VTIMEZONE
BEGIN:VEVENT
DTSTART;TZID=America/New_York:20230905T203000
DTEND;TZID=America/New_York:20230905T213000
DTSTAMP:20260422T010439
CREATED:20230721T015805Z
LAST-MODIFIED:20230830T011615Z
UID:2177-1693945800-1693949400@pack46.com
SUMMARY:Parent Orientation Zoom
DESCRIPTION:All new\, returning\, and prospective parents should join this call\, which will prepare you for the year ahead and cover topics such as event details\, fundraising\, youth protection\, Pack Code of Conduct\, parental involvement\, and more.
URL:https://pack46.com/event/parent-orientation-zoom-2/
CATEGORIES:Parent Orientation
ATTACH;FMTTYPE=image/png:https://pack46.com/wp-content/uploads/2023/07/zoom-logo.png
END:VEVENT
BEGIN:VEVENT
DTSTART;TZID=America/New_York:20230919T183000
DTEND;TZID=America/New_York:20230919T200000
DTSTAMP:20260422T010439
CREATED:20230721T015901Z
LAST-MODIFIED:20230721T015901Z
UID:2180-1695148200-1695153600@pack46.com
SUMMARY:Pack Meeting
DESCRIPTION:
URL:https://pack46.com/event/pack-meeting/
CATEGORIES:Pack Meeting
ATTACH;FMTTYPE=image/png:https://pack46.com/wp-content/uploads/2022/05/favicon.png
END:VEVENT
BEGIN:VEVENT
DTSTART;TZID=America/New_York:20230923T090000
DTEND;TZID=America/New_York:20230923T140000
DTSTAMP:20260422T010439
CREATED:20230721T020445Z
LAST-MODIFIED:20230726T233535Z
UID:2183-1695459600-1695477600@pack46.com
SUMMARY:Ft. Brooke Cub Fest
DESCRIPTION:Register directly with Ft. Brooke here: https://scoutingevent.com/089-cubfest
URL:https://pack46.com/event/ft-brooke-cub-fest/
CATEGORIES:Greater Tampa Bay Area Council
ATTACH;FMTTYPE=image/jpeg:https://pack46.com/wp-content/uploads/2023/07/AdventureOn__Fall-2023_Social_CSBC-01.jpg
END:VEVENT
END:VCALENDAR