BEGIN:VCALENDAR
VERSION:2.0
PRODID:-//Cub Scout Pack 46 - ECPv6.15.20//NONSGML v1.0//EN
CALSCALE:GREGORIAN
METHOD:PUBLISH
X-WR-CALNAME:Cub Scout Pack 46
X-ORIGINAL-URL:https://pack46.com
X-WR-CALDESC:Events for Cub Scout Pack 46
REFRESH-INTERVAL;VALUE=DURATION:PT1H
X-Robots-Tag:noindex
X-PUBLISHED-TTL:PT1H
BEGIN:VTIMEZONE
TZID:America/New_York
BEGIN:DAYLIGHT
TZOFFSETFROM:-0500
TZOFFSETTO:-0400
TZNAME:EDT
DTSTART:20220313T070000
END:DAYLIGHT
BEGIN:STANDARD
TZOFFSETFROM:-0400
TZOFFSETTO:-0500
TZNAME:EST
DTSTART:20221106T060000
END:STANDARD
BEGIN:DAYLIGHT
TZOFFSETFROM:-0500
TZOFFSETTO:-0400
TZNAME:EDT
DTSTART:20230312T070000
END:DAYLIGHT
BEGIN:STANDARD
TZOFFSETFROM:-0400
TZOFFSETTO:-0500
TZNAME:EST
DTSTART:20231105T060000
END:STANDARD
BEGIN:DAYLIGHT
TZOFFSETFROM:-0500
TZOFFSETTO:-0400
TZNAME:EDT
DTSTART:20240310T070000
END:DAYLIGHT
BEGIN:STANDARD
TZOFFSETFROM:-0400
TZOFFSETTO:-0500
TZNAME:EST
DTSTART:20241103T060000
END:STANDARD
END:VTIMEZONE
BEGIN:VEVENT
DTSTART;TZID=America/New_York:20231017T183000
DTEND;TZID=America/New_York:20231017T200000
DTSTAMP:20260421T235020
CREATED:20230721T020556Z
LAST-MODIFIED:20230721T020556Z
UID:2186-1697567400-1697572800@pack46.com
SUMMARY:Pack Meeting
DESCRIPTION:
URL:https://pack46.com/event/pack-meeting-2/
LOCATION:Westchase Elementary School\, 9517 W Linebaugh Ave\, Tampa\, FL\, 33626\, United States
CATEGORIES:Pack Meeting
ATTACH;FMTTYPE=image/png:https://pack46.com/wp-content/uploads/2022/05/favicon.png
END:VEVENT
BEGIN:VEVENT
DTSTART;TZID=America/New_York:20231020T170000
DTEND;TZID=America/New_York:20231022T110000
DTSTAMP:20260421T235020
CREATED:20230721T021428Z
LAST-MODIFIED:20230916T123505Z
UID:2189-1697821200-1697972400@pack46.com
SUMMARY:Spook-O-Ree Camping Trip
DESCRIPTION:Step into the mysterious world of spooky adventures! Welcome to the most thrilling\, bone-chilling\, and fun-filled camping experience available to young Scouts! Beware\, an enchanting yet spooky twist awaits you all! As the moon rises high\, the 1980s horror theme takes on a kid-friendly\, exciting twist. It’s not about being scared\, but about embracing the thrill of mystery and the excitement of the unknown. \nPack 46 dues covers the cost of registered scouts and one adult per family (select the “free scout/adult” option). Additional siblings and adults can register for $47 (youth siblings) & $37 (adults). Registration includes camping\, all program activities\, and food for the entire weekend!  Prices go up by $5 on September 15\, so register now! \nPre-orders for Spook-O-Ree t-shirts or hoodies at: https://councilstuff.com/089-2023Spookoree \nThe Greater Tampa Bay Area Council is hosting this event on two different weekends\, but Pack 46 is only attending the weekend of October 20. \nRemember\, BSA Youth Protection Policy states that adults who camp overnight must be parents/guardians of a scout or registered BSA leaders. Guests are welcome to register and attend during the day but must meet one of these criteria to camp overnight.
URL:https://pack46.com/event/spook-o-ree-camping-trip/
LOCATION:Camp Owen J. Brorein\, 16901 Boy Scout Rd\, Odessa\, FL\, 33556\, United States
CATEGORIES:Camping,Greater Tampa Bay Area Council
ATTACH;FMTTYPE=image/png:https://pack46.com/wp-content/uploads/2023/07/MD_image_16932513480_15132.png
END:VEVENT
END:VCALENDAR