BEGIN:VCALENDAR
VERSION:2.0
PRODID:-//Cub Scout Pack 46 - ECPv6.15.20//NONSGML v1.0//EN
CALSCALE:GREGORIAN
METHOD:PUBLISH
X-WR-CALNAME:Cub Scout Pack 46
X-ORIGINAL-URL:https://pack46.com
X-WR-CALDESC:Events for Cub Scout Pack 46
REFRESH-INTERVAL;VALUE=DURATION:PT1H
X-Robots-Tag:noindex
X-PUBLISHED-TTL:PT1H
BEGIN:VTIMEZONE
TZID:America/New_York
BEGIN:DAYLIGHT
TZOFFSETFROM:-0500
TZOFFSETTO:-0400
TZNAME:EDT
DTSTART:20220313T070000
END:DAYLIGHT
BEGIN:STANDARD
TZOFFSETFROM:-0400
TZOFFSETTO:-0500
TZNAME:EST
DTSTART:20221106T060000
END:STANDARD
BEGIN:DAYLIGHT
TZOFFSETFROM:-0500
TZOFFSETTO:-0400
TZNAME:EDT
DTSTART:20230312T070000
END:DAYLIGHT
BEGIN:STANDARD
TZOFFSETFROM:-0400
TZOFFSETTO:-0500
TZNAME:EST
DTSTART:20231105T060000
END:STANDARD
BEGIN:DAYLIGHT
TZOFFSETFROM:-0500
TZOFFSETTO:-0400
TZNAME:EDT
DTSTART:20240310T070000
END:DAYLIGHT
BEGIN:STANDARD
TZOFFSETFROM:-0400
TZOFFSETTO:-0500
TZNAME:EST
DTSTART:20241103T060000
END:STANDARD
END:VTIMEZONE
BEGIN:VEVENT
DTSTART;TZID=America/New_York:20231110T173000
DTEND;TZID=America/New_York:20231112T120000
DTSTAMP:20260421T222816
CREATED:20230721T021654Z
LAST-MODIFIED:20230721T022015Z
UID:2192-1699637400-1699790400@pack46.com
SUMMARY:Aiming for the Arrow (Webelos & AOLs only)
DESCRIPTION:Register directly at: https://scoutingevent.com/089-65904
URL:https://pack46.com/event/aiming-for-the-arrow-webelos-aols-only/
CATEGORIES:Camping,Greater Tampa Bay Area Council
ATTACH;FMTTYPE=image/png:https://pack46.com/wp-content/uploads/2023/07/MD_image_16896024470_121981.png
END:VEVENT
BEGIN:VEVENT
DTSTART;TZID=America/New_York:20231114T183000
DTEND;TZID=America/New_York:20231114T200000
DTSTAMP:20260421T222816
CREATED:20230721T021957Z
LAST-MODIFIED:20230726T234350Z
UID:2202-1699986600-1699992000@pack46.com
SUMMARY:Pack Meeting
DESCRIPTION:
URL:https://pack46.com/event/pack-meeting-3/
LOCATION:Westchase Elementary School\, 9517 W Linebaugh Ave\, Tampa\, FL\, 33626\, United States
CATEGORIES:Pack Meeting
ATTACH;FMTTYPE=image/png:https://pack46.com/wp-content/uploads/2022/05/favicon.png
END:VEVENT
BEGIN:VEVENT
DTSTART;TZID=America/New_York:20231118T090000
DTEND;TZID=America/New_York:20231118T160000
DTSTAMP:20260421T222816
CREATED:20230721T023803Z
LAST-MODIFIED:20230721T023803Z
UID:2206-1700298000-1700323200@pack46.com
SUMMARY:Camp Activity Day
DESCRIPTION:Register directly at: https://scoutingevent.com/089-64721
URL:https://pack46.com/event/camp-activity-day/
LOCATION:Camp Soule\, 2201 Soule Road\, Clearwater\, FL\, 33759\, United States
CATEGORIES:Greater Tampa Bay Area Council
ATTACH;FMTTYPE=image/png:https://pack46.com/wp-content/uploads/2023/07/MD_image_15871336450_78011.png
END:VEVENT
BEGIN:VEVENT
DTSTART;VALUE=DATE:20231119
DTEND;VALUE=DATE:20231120
DTSTAMP:20260421T222816
CREATED:20230721T025824Z
LAST-MODIFIED:20230726T234418Z
UID:2213-1700352000-1700438399@pack46.com
SUMMARY:Westchase Food Drive Service Project
DESCRIPTION:
URL:https://pack46.com/event/westchase-food-drive-service-project/
LOCATION:Westchase Elementary School\, 9517 W Linebaugh Ave\, Tampa\, FL\, 33626\, United States
CATEGORIES:Pack Event
ATTACH;FMTTYPE=image/jpeg:https://pack46.com/wp-content/uploads/2022/08/FOOD-DRIVE1.jpeg
END:VEVENT
END:VCALENDAR