BEGIN:VCALENDAR
VERSION:2.0
PRODID:-//Cub Scout Pack 46 - ECPv6.15.20//NONSGML v1.0//EN
CALSCALE:GREGORIAN
METHOD:PUBLISH
X-WR-CALNAME:Cub Scout Pack 46
X-ORIGINAL-URL:https://pack46.com
X-WR-CALDESC:Events for Cub Scout Pack 46
REFRESH-INTERVAL;VALUE=DURATION:PT1H
X-Robots-Tag:noindex
X-PUBLISHED-TTL:PT1H
BEGIN:VTIMEZONE
TZID:America/New_York
BEGIN:DAYLIGHT
TZOFFSETFROM:-0500
TZOFFSETTO:-0400
TZNAME:EDT
DTSTART:20230312T070000
END:DAYLIGHT
BEGIN:STANDARD
TZOFFSETFROM:-0400
TZOFFSETTO:-0500
TZNAME:EST
DTSTART:20231105T060000
END:STANDARD
BEGIN:DAYLIGHT
TZOFFSETFROM:-0500
TZOFFSETTO:-0400
TZNAME:EDT
DTSTART:20240310T070000
END:DAYLIGHT
BEGIN:STANDARD
TZOFFSETFROM:-0400
TZOFFSETTO:-0500
TZNAME:EST
DTSTART:20241103T060000
END:STANDARD
BEGIN:DAYLIGHT
TZOFFSETFROM:-0500
TZOFFSETTO:-0400
TZNAME:EDT
DTSTART:20250309T070000
END:DAYLIGHT
BEGIN:STANDARD
TZOFFSETFROM:-0400
TZOFFSETTO:-0500
TZNAME:EST
DTSTART:20251102T060000
END:STANDARD
END:VTIMEZONE
BEGIN:VEVENT
DTSTART;TZID=America/New_York:20240216T173000
DTEND;TZID=America/New_York:20240218T120000
DTSTAMP:20260421T182720
CREATED:20230721T030755Z
LAST-MODIFIED:20240212T211057Z
UID:2225-1708104600-1708257600@pack46.com
SUMMARY:Pack Camping Trip & AOL Crossover
DESCRIPTION:Join the Pack at Camp Soule in Clearwater\, FL for a western-themed weekend with activities like fishing\, shooting\, and a Saturday night campfire where our Arrow of Light scouts will crossover into ScoutsBSA!  Troops 46(boys) and 6419(girls) will also join us for the weekend as they welcome our AOLs into ScoutsBSA! \nThis campout is included in Spring dues for scouts and one parent per registered scout!  Select the “Free” option for registered scouts and designated parent. Additional siblings are $35 and adults are $15. \nThere is also a $10 option for guests to join only our Blue & Gold dinner\, campfire\, and AOL Crossover Saturday night at 6pm!
URL:https://pack46.com/event/pack-camping-trip-aol-crossover/
LOCATION:Camp Soule\, 2201 Soule Road\, Clearwater\, FL\, 33759\, United States
CATEGORIES:Camping,Pack Event
ATTACH;FMTTYPE=image/jpeg:https://pack46.com/wp-content/uploads/2023/07/23-AOL-Crossover-Scout1.jpg
END:VEVENT
END:VCALENDAR