BEGIN:VCALENDAR
VERSION:2.0
PRODID:-//Cub Scout Pack 46 - ECPv6.15.20//NONSGML v1.0//EN
CALSCALE:GREGORIAN
METHOD:PUBLISH
X-ORIGINAL-URL:https://pack46.com
X-WR-CALDESC:Events for Cub Scout Pack 46
REFRESH-INTERVAL;VALUE=DURATION:PT1H
X-Robots-Tag:noindex
X-PUBLISHED-TTL:PT1H
BEGIN:VTIMEZONE
TZID:America/New_York
BEGIN:DAYLIGHT
TZOFFSETFROM:-0500
TZOFFSETTO:-0400
TZNAME:EDT
DTSTART:20230312T070000
END:DAYLIGHT
BEGIN:STANDARD
TZOFFSETFROM:-0400
TZOFFSETTO:-0500
TZNAME:EST
DTSTART:20231105T060000
END:STANDARD
BEGIN:DAYLIGHT
TZOFFSETFROM:-0500
TZOFFSETTO:-0400
TZNAME:EDT
DTSTART:20240310T070000
END:DAYLIGHT
BEGIN:STANDARD
TZOFFSETFROM:-0400
TZOFFSETTO:-0500
TZNAME:EST
DTSTART:20241103T060000
END:STANDARD
BEGIN:DAYLIGHT
TZOFFSETFROM:-0500
TZOFFSETTO:-0400
TZNAME:EDT
DTSTART:20250309T070000
END:DAYLIGHT
BEGIN:STANDARD
TZOFFSETFROM:-0400
TZOFFSETTO:-0500
TZNAME:EST
DTSTART:20251102T060000
END:STANDARD
END:VTIMEZONE
BEGIN:VEVENT
DTSTART;TZID=America/New_York:20240519T170000
DTEND;TZID=America/New_York:20240519T200000
DTSTAMP:20260421T142133
CREATED:20230721T031916Z
LAST-MODIFIED:20240423T175840Z
UID:2241-1716138000-1716148800@pack46.com
SUMMARY:Advancement Ceremony
DESCRIPTION:Join Pack 46 as we celebrate our scouts and recognize them for advancing to their next rank! Dinner will be served in the Camp Soule Dining Hall at 5:00pm\, and the Advancement Ceremony will begin at the new Camp Soule Council Ring at 6:00pm. This is a free event for scouts and their guests – just make sure to register! \nScouts should wear Class-A uniform with their neckerchief and slide to the Advancement Ceremony.  
URL:https://pack46.com/event/advancement-ceremony/
LOCATION:Camp Soule\, 2201 Soule Road\, Clearwater\, FL\, 33759\, United States
CATEGORIES:Pack Event,Pack Meeting
ATTACH;FMTTYPE=image/png:https://pack46.com/wp-content/uploads/2022/05/favicon.png
END:VEVENT
END:VCALENDAR