BEGIN:VCALENDAR
VERSION:2.0
PRODID:-//Cub Scout Pack 46 - ECPv6.15.20//NONSGML v1.0//EN
CALSCALE:GREGORIAN
METHOD:PUBLISH
X-ORIGINAL-URL:https://pack46.com
X-WR-CALDESC:Events for Cub Scout Pack 46
REFRESH-INTERVAL;VALUE=DURATION:PT1H
X-Robots-Tag:noindex
X-PUBLISHED-TTL:PT1H
BEGIN:VTIMEZONE
TZID:America/New_York
BEGIN:DAYLIGHT
TZOFFSETFROM:-0500
TZOFFSETTO:-0400
TZNAME:EDT
DTSTART:20230312T070000
END:DAYLIGHT
BEGIN:STANDARD
TZOFFSETFROM:-0400
TZOFFSETTO:-0500
TZNAME:EST
DTSTART:20231105T060000
END:STANDARD
BEGIN:DAYLIGHT
TZOFFSETFROM:-0500
TZOFFSETTO:-0400
TZNAME:EDT
DTSTART:20240310T070000
END:DAYLIGHT
BEGIN:STANDARD
TZOFFSETFROM:-0400
TZOFFSETTO:-0500
TZNAME:EST
DTSTART:20241103T060000
END:STANDARD
BEGIN:DAYLIGHT
TZOFFSETFROM:-0500
TZOFFSETTO:-0400
TZNAME:EDT
DTSTART:20250309T070000
END:DAYLIGHT
BEGIN:STANDARD
TZOFFSETFROM:-0400
TZOFFSETTO:-0500
TZNAME:EST
DTSTART:20251102T060000
END:STANDARD
END:VTIMEZONE
BEGIN:VEVENT
DTSTART;TZID=America/New_York:20240820T183000
DTEND;TZID=America/New_York:20240820T200000
DTSTAMP:20260421T101603
CREATED:20240624T013239Z
LAST-MODIFIED:20240811T210351Z
UID:5004-1724178600-1724184000@pack46.com
SUMMARY:Pack Meeting
DESCRIPTION:
URL:https://pack46.com/event/pack-meeting-7/
LOCATION:Westchase Elementary School\, 9517 W Linebaugh Ave\, Tampa\, FL\, 33626\, United States
CATEGORIES:Pack Meeting
ATTACH;FMTTYPE=image/png:https://pack46.com/wp-content/uploads/2024/06/Pack46-T-Shirt.png
END:VEVENT
BEGIN:VEVENT
DTSTART;TZID=America/New_York:20240829T203000
DTEND;TZID=America/New_York:20240829T213000
DTSTAMP:20260421T101603
CREATED:20240725T221101Z
LAST-MODIFIED:20240811T213026Z
UID:5013-1724963400-1724967000@pack46.com
SUMMARY:Parent Orientation Zoom
DESCRIPTION:All new\, returning\, and prospective parents should join this call\, which will prepare you for the year ahead and cover topics such as event details\, fundraising\, youth protection\, Pack Code of Conduct\, parental involvement\, and more.  Register Here
URL:https://pack46.com/event/parent-orientation-zoom-4/
CATEGORIES:Parent Orientation
ATTACH;FMTTYPE=image/jpeg:https://pack46.com/wp-content/uploads/2024/07/Be-Prepared.jpg
END:VEVENT
END:VCALENDAR