BEGIN:VCALENDAR
VERSION:2.0
PRODID:-//Cub Scout Pack 46 - ECPv6.15.20//NONSGML v1.0//EN
CALSCALE:GREGORIAN
METHOD:PUBLISH
X-ORIGINAL-URL:https://pack46.com
X-WR-CALDESC:Events for Cub Scout Pack 46
REFRESH-INTERVAL;VALUE=DURATION:PT1H
X-Robots-Tag:noindex
X-PUBLISHED-TTL:PT1H
BEGIN:VTIMEZONE
TZID:America/New_York
BEGIN:DAYLIGHT
TZOFFSETFROM:-0500
TZOFFSETTO:-0400
TZNAME:EDT
DTSTART:20250309T070000
END:DAYLIGHT
BEGIN:STANDARD
TZOFFSETFROM:-0400
TZOFFSETTO:-0500
TZNAME:EST
DTSTART:20251102T060000
END:STANDARD
BEGIN:DAYLIGHT
TZOFFSETFROM:-0500
TZOFFSETTO:-0400
TZNAME:EDT
DTSTART:20260308T070000
END:DAYLIGHT
BEGIN:STANDARD
TZOFFSETFROM:-0400
TZOFFSETTO:-0500
TZNAME:EST
DTSTART:20261101T060000
END:STANDARD
BEGIN:DAYLIGHT
TZOFFSETFROM:-0500
TZOFFSETTO:-0400
TZNAME:EDT
DTSTART:20270314T070000
END:DAYLIGHT
BEGIN:STANDARD
TZOFFSETFROM:-0400
TZOFFSETTO:-0500
TZNAME:EST
DTSTART:20271107T060000
END:STANDARD
END:VTIMEZONE
BEGIN:VEVENT
DTSTART;TZID=America/New_York:20260306T170000
DTEND;TZID=America/New_York:20260308T110000
DTSTAMP:20260419T091659
CREATED:20250721T092334Z
LAST-MODIFIED:20260202T220740Z
UID:8213-1772816400-1772967600@pack46.com
SUMMARY:Pack Camping Trip & AOL Crossover
DESCRIPTION:This event is covered in Pack Dues!  \nJoin Pack 46 for an action-packed Space-themed weekend with activities like Space Blasters (shooting range)\, Bottle Rockets\, Cosmic Crafts\, and Fishing!  We’ll also have a Pinewood Derby Workshop in the afternoon where Scouts and Outlaws can build their car!  Highlighting the weekend will be an incredible Saturday night Blue & Gold dinner in the Dining Hall\, followed by a campfire where our Arrow of Light scouts will crossover into a Scout troop! \nThis campout is included in Spring dues for Pack 46 scouts and one parent per registered scout!  Select the “Free” option for registered scouts and designated parent. Additional siblings are $36 and adults are $20 for the weekend. \nThere is also a $12 option for guests to join only our Blue & Gold dinner\, campfire\, and AOL Crossover Saturday night at 5:30pm! \nCurrent Spring Pack Dues and BSA Registration is required for all scouts to attend this event – Click Here if you haven’t yet paid pack dues/registration. 
URL:https://pack46.com/event/pack-camping-trip-aol-crossover-3/
LOCATION:Camp Soule\, 2201 Soule Road\, Clearwater\, FL\, 33759\, United States
CATEGORIES:Camping,Pack Event
ATTACH;FMTTYPE=image/png:https://pack46.com/wp-content/uploads/2024/09/Soule.png
END:VEVENT
BEGIN:VEVENT
DTSTART;TZID=America/New_York:20260314T080000
DTEND;TZID=America/New_York:20260315T120000
DTSTAMP:20260419T091659
CREATED:20250721T092659Z
LAST-MODIFIED:20250721T092659Z
UID:8217-1773475200-1773576000@pack46.com
SUMMARY:BALOO Training (Adult Leader Training)
DESCRIPTION:Cub Scout leader training required for any Cub Scout den or pack outdoor event\, including pack camping overnighters and Webelos den overnighters. \nBALOO (Basic Adult Leader Outdoor Orientation) training consists of two components—an online component and a practical\, hands-on component. You must sleep over night at camp to complete the training. \nBoth components must be completed to qualify as a “TRAINED” Cub Scout outdoor leader. \nThe online training contains introductory and basic information that will be built upon during the practical training. \nThe online component must be completed prior to attending the practical component; bring online component completion certiﬁcate and health form part A & B. \nGo to my.scouting.org training site to take the online training portion.
URL:https://pack46.com/event/baloo-training-adult-leader-training-3/
LOCATION:Camp Soule\, 2201 Soule Road\, Clearwater\, FL\, 33759\, United States
CATEGORIES:Greater Tampa Bay Area Council
ATTACH;FMTTYPE=image/png:https://pack46.com/wp-content/uploads/2024/06/MD_image_16408064550_4835.png
END:VEVENT
BEGIN:VEVENT
DTSTART;TZID=America/New_York:20260324T183000
DTEND;TZID=America/New_York:20260324T200000
DTSTAMP:20260419T091659
CREATED:20250721T093231Z
LAST-MODIFIED:20250721T093231Z
UID:8221-1774377000-1774382400@pack46.com
SUMMARY:Pack Meeting & Derby Prep
DESCRIPTION:Pack meeting for the month of March. You will also have the opportunity to work on your Pinewood derby car.
URL:https://pack46.com/event/pack-meeting-derby-prep/
LOCATION:Westchase Elementary School\, 9517 W Linebaugh Ave\, Tampa\, FL\, 33626\, United States
CATEGORIES:Pack Meeting
ATTACH;FMTTYPE=image/png:https://pack46.com/wp-content/uploads/2022/05/favicon.png
END:VEVENT
BEGIN:VEVENT
DTSTART;TZID=America/New_York:20260329T130000
DTEND;TZID=America/New_York:20260329T170000
DTSTAMP:20260419T091659
CREATED:20250721T093905Z
LAST-MODIFIED:20260202T193619Z
UID:8226-1774789200-1774803600@pack46.com
SUMMARY:Pinewood Derby Race Day!
DESCRIPTION:One of the most exciting events in scouting! Race your cars with your fellow scouts and put your STEM skills to the test! Here are all the details:\nPack 46\n2026 Pinewood Derby Rules\n\nWidth shall not exceed 2-3/4 inches\, including wheels and axles.\nLength shall not exceed 7 inches.\nHeight shall not exceed 3-1/4 inches.\nWeight shall not exceed 5 ounces.\nVehicle must clear center guide strip of the track (3/8″H x 1-3/4″ W)\nWheelbase shall not exceed 4-3/8 inches. (Distance between front and rear axles)\nAxles\, wheels\, and body shall be from the materials provided in the kit. Alternate wheels sold by BSA are acceptable.\nWheel bearings\, washers\, and bushings are prohibited.\nNo lubricating oil may be used. Axles may be lubricated with powdered graphite.\nThe car shall not ride on any kind of spring.\nThe car must be freewheeling\, with no starting or propulsion devices.\nNo loose materials of any kind are allowed in the car.\nAt least three wheels must be touching the track when racing.\nEvery part of the car must begin behind starting pin.\nThe vehicle’s front end must be at least ¼ inch wide and cannot be shaped like a pointed V to ensure proper launching on the track.\n\nAnd the last and most important rule: \nHAVE FUN! \nAward Categories by Den:\nIn addition to awards for fastest car\, design awards will be given for the following categories: \nSTEM\nFood\nScout Adventures\nCreative (Anything goes) \nOutlaws\nRacers who are not registered as a Pack 46 Cub Scout (parents\, siblings\, etc.) may also compete in one of two categories: Outlaws\, who must adhere to the full rules above; or Unlimited\, which increases the weight limit to 8 ounces while still following all\nother rules. Outlaw/Unlimited entrance fee is $20 \nRace-Day\nRacers or their designee can show up any time between 9a-12p on Sunday to register\, weigh-in\, measure-in\, choose their design category\, and drop off their car. This is the last time racers can touch their cars until trophies have been awarded. No registrations will be accepted after 12:00p. Racers will receive their racing credentials at registration\, then can leave until the races that afternoon. \nRace-Day Schedule – Sunday March 29th at Westchase Elementary: \n9:00-12:00: Open Registration & Car Drop-off\n12:00-1:00: Judging (No Scouts in the room during judging)\n1:00-2:30: Lions\, Tigers\, Wolves Heat\n2:30-3:30: Outlaws Heat\n3:30-5:00: Bears\, Webelos\, AOL Heat \nAwards (1st through 3rd in Speed per Den\, and 1st through 3rd in each creative category per heat) will occur after each heat\, so families may attend just their heat\, or stay for other heats if you want to watch all the action!  Concessions will be open all afternoon. Scouts should be in Class-A Uniform for the races.  \nBuild Your Car\nPack 46 will host a Pinewood Derby Workshop on the Saturday afternoon of the Crossover Campout\, March 7th\, at Camp Soule!  We will have all the tools you need to design\, build\, and test your car! \n  \nFinally\, Scouts grow through challenge. We encourage parents to help your scout build and design their car\, but please do not do it for them.  It is a great opportunity to let your scout be creative and work side by side with them to build something they can be proud of! \n 
URL:https://pack46.com/event/pinewood-derby-race-day-3/
LOCATION:Westchase Elementary School\, 9517 W Linebaugh Ave\, Tampa\, FL\, 33626\, United States
CATEGORIES:Pack Event
ATTACH;FMTTYPE=image/png:https://pack46.com/wp-content/uploads/2025/02/PinewoodDerby.png
END:VEVENT
END:VCALENDAR